BEGIN:VCALENDAR
VERSION:2.0
PRODID:-//Kikaha O Ke Kai - ECPv6.15.20//NONSGML v1.0//EN
CALSCALE:GREGORIAN
METHOD:PUBLISH
X-WR-CALNAME:Kikaha O Ke Kai
X-ORIGINAL-URL:https://kikaha.com
X-WR-CALDESC:Events for Kikaha O Ke Kai
REFRESH-INTERVAL;VALUE=DURATION:PT1H
X-Robots-Tag:noindex
X-PUBLISHED-TTL:PT1H
BEGIN:VTIMEZONE
TZID:America/Los_Angeles
BEGIN:DAYLIGHT
TZOFFSETFROM:-0800
TZOFFSETTO:-0700
TZNAME:PDT
DTSTART:20250309T100000
END:DAYLIGHT
BEGIN:STANDARD
TZOFFSETFROM:-0700
TZOFFSETTO:-0800
TZNAME:PST
DTSTART:20251102T090000
END:STANDARD
BEGIN:DAYLIGHT
TZOFFSETFROM:-0800
TZOFFSETTO:-0700
TZNAME:PDT
DTSTART:20260308T100000
END:DAYLIGHT
BEGIN:STANDARD
TZOFFSETFROM:-0700
TZOFFSETTO:-0800
TZNAME:PST
DTSTART:20261101T090000
END:STANDARD
BEGIN:DAYLIGHT
TZOFFSETFROM:-0800
TZOFFSETTO:-0700
TZNAME:PDT
DTSTART:20270314T100000
END:DAYLIGHT
BEGIN:STANDARD
TZOFFSETFROM:-0700
TZOFFSETTO:-0800
TZNAME:PST
DTSTART:20271107T090000
END:STANDARD
END:VTIMEZONE
BEGIN:VEVENT
DTSTART;TZID=America/Los_Angeles:20260516T080000
DTEND;TZID=America/Los_Angeles:20260516T170000
DTSTAMP:20260419T075938
CREATED:20260413T191950Z
LAST-MODIFIED:20260415T003212Z
UID:10000053-1778918400-1778950800@kikaha.com
SUMMARY:Kīkaha O Ke Kai - Manu K Baker Sprints
DESCRIPTION:
URL:https://kikaha.com/event/kikaha-o-ke-kai-manu-k-baker-sprints/
LOCATION:Spanaway Lake\, 14905 Bresemann Blvd S\, Spanaway\, WA\, 98387
CATEGORIES:OC6,Small Boat (OC1/OC2/V1) Race,Sprint Race
GEO:47.1171488;-122.4403211
X-APPLE-STRUCTURED-LOCATION;VALUE=URI;X-ADDRESS=Spanaway Lake 14905 Bresemann Blvd S Spanaway WA 98387;X-APPLE-RADIUS=500;X-TITLE=14905 Bresemann Blvd S:geo:-122.4403211,47.1171488
END:VEVENT
BEGIN:VEVENT
DTSTART;TZID=America/Los_Angeles:20260516T173000
DTEND;TZID=America/Los_Angeles:20260516T203000
DTSTAMP:20260419T075938
CREATED:20260415T005514Z
LAST-MODIFIED:20260415T005747Z
UID:10000194-1778952600-1778963400@kikaha.com
SUMMARY:Saturday Practice
DESCRIPTION:
URL:https://kikaha.com/event/saturday-practice/2026-05-16/
LOCATION:Foss Practice Site\, 1930 E D Street\, Tacoma\, WA\, 98421\, United States
CATEGORIES:Practice
GEO:47.2435744;-122.4310179
X-APPLE-STRUCTURED-LOCATION;VALUE=URI;X-ADDRESS=Foss Practice Site 1930 E D Street Tacoma WA 98421 United States;X-APPLE-RADIUS=500;X-TITLE=1930 E D Street:geo:-122.4310179,47.2435744
END:VEVENT
END:VCALENDAR