BEGIN:VCALENDAR
VERSION:2.0
PRODID:-//Kikaha O Ke Kai - ECPv6.15.20//NONSGML v1.0//EN
CALSCALE:GREGORIAN
METHOD:PUBLISH
X-WR-CALNAME:Kikaha O Ke Kai
X-ORIGINAL-URL:https://kikaha.com
X-WR-CALDESC:Events for Kikaha O Ke Kai
REFRESH-INTERVAL;VALUE=DURATION:PT1H
X-Robots-Tag:noindex
X-PUBLISHED-TTL:PT1H
BEGIN:VTIMEZONE
TZID:America/Los_Angeles
BEGIN:DAYLIGHT
TZOFFSETFROM:-0800
TZOFFSETTO:-0700
TZNAME:PDT
DTSTART:20250309T100000
END:DAYLIGHT
BEGIN:STANDARD
TZOFFSETFROM:-0700
TZOFFSETTO:-0800
TZNAME:PST
DTSTART:20251102T090000
END:STANDARD
BEGIN:DAYLIGHT
TZOFFSETFROM:-0800
TZOFFSETTO:-0700
TZNAME:PDT
DTSTART:20260308T100000
END:DAYLIGHT
BEGIN:STANDARD
TZOFFSETFROM:-0700
TZOFFSETTO:-0800
TZNAME:PST
DTSTART:20261101T090000
END:STANDARD
BEGIN:DAYLIGHT
TZOFFSETFROM:-0800
TZOFFSETTO:-0700
TZNAME:PDT
DTSTART:20270314T100000
END:DAYLIGHT
BEGIN:STANDARD
TZOFFSETFROM:-0700
TZOFFSETTO:-0800
TZNAME:PST
DTSTART:20271107T090000
END:STANDARD
END:VTIMEZONE
BEGIN:VEVENT
DTSTART;TZID=America/Los_Angeles:20260613T080000
DTEND;TZID=America/Los_Angeles:20260613T170000
DTSTAMP:20260419T095626
CREATED:20260413T192624Z
LAST-MODIFIED:20260415T002711Z
UID:10000056-1781337600-1781370000@kikaha.com
SUMMARY:Hui Wa’a O Puget Sound Sprints – Silver Lake Sprints
DESCRIPTION:
URL:https://kikaha.com/event/hui-waa-o-puget-sound-sprints-silver-lake-sprints/
LOCATION:Thornton Sullivan Park\, 11405 Silver Lake Rd\, Everett\, WA\, 98208
CATEGORIES:OC6,Short Course,Small Boat (OC1/OC2/V1) Race,Sprint Race
GEO:47.8961179;-122.2134334
X-APPLE-STRUCTURED-LOCATION;VALUE=URI;X-ADDRESS=Thornton Sullivan Park 11405 Silver Lake Rd Everett WA 98208;X-APPLE-RADIUS=500;X-TITLE=11405 Silver Lake Rd:geo:-122.2134334,47.8961179
END:VEVENT
BEGIN:VEVENT
DTSTART;TZID=America/Los_Angeles:20260613T173000
DTEND;TZID=America/Los_Angeles:20260613T203000
DTSTAMP:20260419T095626
CREATED:20260415T005514Z
LAST-MODIFIED:20260415T005747Z
UID:10000198-1781371800-1781382600@kikaha.com
SUMMARY:Saturday Practice
DESCRIPTION:
URL:https://kikaha.com/event/saturday-practice/2026-06-13/
LOCATION:Foss Practice Site\, 1930 E D Street\, Tacoma\, WA\, 98421\, United States
CATEGORIES:Practice
GEO:47.2435744;-122.4310179
X-APPLE-STRUCTURED-LOCATION;VALUE=URI;X-ADDRESS=Foss Practice Site 1930 E D Street Tacoma WA 98421 United States;X-APPLE-RADIUS=500;X-TITLE=1930 E D Street:geo:-122.4310179,47.2435744
END:VEVENT
END:VCALENDAR