BEGIN:VCALENDAR
VERSION:2.0
PRODID:-//Kikaha O Ke Kai - ECPv6.15.20//NONSGML v1.0//EN
CALSCALE:GREGORIAN
METHOD:PUBLISH
X-WR-CALNAME:Kikaha O Ke Kai
X-ORIGINAL-URL:https://kikaha.com
X-WR-CALDESC:Events for Kikaha O Ke Kai
REFRESH-INTERVAL;VALUE=DURATION:PT1H
X-Robots-Tag:noindex
X-PUBLISHED-TTL:PT1H
BEGIN:VTIMEZONE
TZID:America/Los_Angeles
BEGIN:DAYLIGHT
TZOFFSETFROM:-0800
TZOFFSETTO:-0700
TZNAME:PDT
DTSTART:20220313T100000
END:DAYLIGHT
BEGIN:STANDARD
TZOFFSETFROM:-0700
TZOFFSETTO:-0800
TZNAME:PST
DTSTART:20221106T090000
END:STANDARD
BEGIN:DAYLIGHT
TZOFFSETFROM:-0800
TZOFFSETTO:-0700
TZNAME:PDT
DTSTART:20230312T100000
END:DAYLIGHT
BEGIN:STANDARD
TZOFFSETFROM:-0700
TZOFFSETTO:-0800
TZNAME:PST
DTSTART:20231105T090000
END:STANDARD
BEGIN:DAYLIGHT
TZOFFSETFROM:-0800
TZOFFSETTO:-0700
TZNAME:PDT
DTSTART:20240310T100000
END:DAYLIGHT
BEGIN:STANDARD
TZOFFSETFROM:-0700
TZOFFSETTO:-0800
TZNAME:PST
DTSTART:20241103T090000
END:STANDARD
END:VTIMEZONE
BEGIN:VEVENT
DTSTART;VALUE=DATE:20230624
DTEND;VALUE=DATE:20230625
DTSTAMP:20260423T123842
CREATED:20221207T014141Z
LAST-MODIFIED:20221207T014152Z
UID:10000011-1687564800-1687651199@kikaha.com
SUMMARY:Rooster Rock Iron
DESCRIPTION:Rooster Rock Iron race. Stay tuned for more information regarding camping after the race!
URL:https://kikaha.com/event/rooster-rock-iron/
LOCATION:Rooster Rock State Park\, Corbett\, OR\, 97019
CATEGORIES:Distance Race
GEO:45.5317887;-122.2912175
END:VEVENT
END:VCALENDAR