BEGIN:VCALENDAR
VERSION:2.0
PRODID:-//Kikaha O Ke Kai - ECPv6.15.20//NONSGML v1.0//EN
CALSCALE:GREGORIAN
METHOD:PUBLISH
X-WR-CALNAME:Kikaha O Ke Kai
X-ORIGINAL-URL:https://kikaha.com
X-WR-CALDESC:Events for Kikaha O Ke Kai
REFRESH-INTERVAL;VALUE=DURATION:PT1H
X-Robots-Tag:noindex
X-PUBLISHED-TTL:PT1H
BEGIN:VTIMEZONE
TZID:America/Los_Angeles
BEGIN:DAYLIGHT
TZOFFSETFROM:-0800
TZOFFSETTO:-0700
TZNAME:PDT
DTSTART:20250309T100000
END:DAYLIGHT
BEGIN:STANDARD
TZOFFSETFROM:-0700
TZOFFSETTO:-0800
TZNAME:PST
DTSTART:20251102T090000
END:STANDARD
BEGIN:DAYLIGHT
TZOFFSETFROM:-0800
TZOFFSETTO:-0700
TZNAME:PDT
DTSTART:20260308T100000
END:DAYLIGHT
BEGIN:STANDARD
TZOFFSETFROM:-0700
TZOFFSETTO:-0800
TZNAME:PST
DTSTART:20261101T090000
END:STANDARD
BEGIN:DAYLIGHT
TZOFFSETFROM:-0800
TZOFFSETTO:-0700
TZNAME:PDT
DTSTART:20270314T100000
END:DAYLIGHT
BEGIN:STANDARD
TZOFFSETFROM:-0700
TZOFFSETTO:-0800
TZNAME:PST
DTSTART:20271107T090000
END:STANDARD
END:VTIMEZONE
BEGIN:VEVENT
DTSTART;TZID=America/Los_Angeles:20260124T080000
DTEND;TZID=America/Los_Angeles:20260124T170000
DTSTAMP:20260419T212452
CREATED:20260111T191712Z
LAST-MODIFIED:20260111T191712Z
UID:10000071-1769241600-1769274000@kikaha.com
SUMMARY:2026 Winter Series #2 – Jericho
DESCRIPTION:
URL:https://kikaha.com/event/2026-winter-series-2-jericho/
LOCATION:Jericho Sailing Centre\, 1300 Discovery St\, Vancouver\, BC\, V6R4L9\, Canada
CATEGORIES:Small Boat (OC1/OC2/V1) Race
END:VEVENT
BEGIN:VEVENT
DTSTART;TZID=America/Los_Angeles:20260207T080000
DTEND;TZID=America/Los_Angeles:20260207T170000
DTSTAMP:20260419T212452
CREATED:20260111T191910Z
LAST-MODIFIED:20260111T191910Z
UID:10000072-1770451200-1770483600@kikaha.com
SUMMARY:2026 Winter Series #3 – Mountain Home
DESCRIPTION:
URL:https://kikaha.com/event/2026-winter-series-3-mountain-home/
LOCATION:Kalama\, 266-272 N Hendrickson Dr\, Kalama\, WA\, 98625\, United States
CATEGORIES:Small Boat (OC1/OC2/V1) Race
END:VEVENT
BEGIN:VEVENT
DTSTART;TZID=America/Los_Angeles:20260221T080000
DTEND;TZID=America/Los_Angeles:20260221T170000
DTSTAMP:20260419T212452
CREATED:20260111T192121Z
LAST-MODIFIED:20260111T192121Z
UID:10000073-1771660800-1771693200@kikaha.com
SUMMARY:2026 Winter Series #4 – Bellingham
DESCRIPTION:
URL:https://kikaha.com/event/2026-winter-series-4-bellingham/
LOCATION:Marine Park\, 100 Harris Ave\, Bellingham\, 98225\, United States
CATEGORIES:Small Boat (OC1/OC2/V1) Race
END:VEVENT
BEGIN:VEVENT
DTSTART;TZID=America/Los_Angeles:20260307T080000
DTEND;TZID=America/Los_Angeles:20260307T170000
DTSTAMP:20260419T212452
CREATED:20260111T192305Z
LAST-MODIFIED:20260111T192305Z
UID:10000074-1772870400-1772902800@kikaha.com
SUMMARY:2026 Winter Series #5 – False Creek
DESCRIPTION:
URL:https://kikaha.com/event/2026-winter-series-5-false-creek/
LOCATION:Burrard Civic Marina\, 1655 Whyte Ave\, Vancouver\, BC\, V6J 1A9\, Canada
CATEGORIES:Small Boat (OC1/OC2/V1) Race
END:VEVENT
BEGIN:VEVENT
DTSTART;TZID=America/Los_Angeles:20260307T173000
DTEND;TZID=America/Los_Angeles:20260307T203000
DTSTAMP:20260419T212452
CREATED:20260415T005514Z
LAST-MODIFIED:20260415T005747Z
UID:10000184-1772904600-1772915400@kikaha.com
SUMMARY:Saturday Practice
DESCRIPTION:
URL:https://kikaha.com/event/saturday-practice/2026-03-07/
LOCATION:Foss Practice Site\, 1930 E D Street\, Tacoma\, WA\, 98421\, United States
CATEGORIES:Practice
GEO:47.2435744;-122.4310179
X-APPLE-STRUCTURED-LOCATION;VALUE=URI;X-ADDRESS=Foss Practice Site 1930 E D Street Tacoma WA 98421 United States;X-APPLE-RADIUS=500;X-TITLE=1930 E D Street:geo:-122.4310179,47.2435744
END:VEVENT
BEGIN:VEVENT
DTSTART;TZID=America/Los_Angeles:20260308T090000
DTEND;TZID=America/Los_Angeles:20260308T113000
DTSTAMP:20260419T212452
CREATED:20260111T202305Z
LAST-MODIFIED:20260111T202305Z
UID:10000076-1772960400-1772969400@kikaha.com
SUMMARY:Rigging Day 2026
DESCRIPTION:It’s time to get the boats rigged for spring! Please come help and kokua to get the boats ready for the racing season. \nPlease note: Rigging Day will be followed immediately by our Annual Meeting
URL:https://kikaha.com/event/rigging-day-2026/
LOCATION:Foss Practice Site\, 1930 E D Street\, Tacoma\, WA\, 98421\, United States
CATEGORIES:Other (Non-racing)
ATTACH;FMTTYPE=image/jpeg:https://kikaha.com/wp-content/uploads/2023/01/K07A7526-scaled.jpg
GEO:47.2435744;-122.4310179
X-APPLE-STRUCTURED-LOCATION;VALUE=URI;X-ADDRESS=Foss Practice Site 1930 E D Street Tacoma WA 98421 United States;X-APPLE-RADIUS=500;X-TITLE=1930 E D Street:geo:-122.4310179,47.2435744
END:VEVENT
BEGIN:VEVENT
DTSTART;TZID=America/Los_Angeles:20260308T113000
DTEND;TZID=America/Los_Angeles:20260308T124500
DTSTAMP:20260419T212452
CREATED:20260111T202436Z
LAST-MODIFIED:20260111T202436Z
UID:10000077-1772969400-1772973900@kikaha.com
SUMMARY:Annual General Meeting- All Members to Attend
DESCRIPTION:It’s time for our Annual Meeting!\nWe’ll provide an overview of our club’s activities and financial status as we celebrate 2024 and look ahead to 2025.\nCome share lunch (potluck style with us as we unveil our two new wa’a (Da twins) updates.\nBring your favorite”ono” dish to share and enjoy this potluck lunch meeting with your Kikaha ‘ohana.\nWe look forward to seeing you there!
URL:https://kikaha.com/event/annual-general-meeting-all-members-to-attend-2026/
LOCATION:Teamsters Hall\, 220 S 27th Street\, Tacoma\, WA\, 98402\, United States
CATEGORIES:Other (Non-racing)
ATTACH;FMTTYPE=image/jpeg:https://kikaha.com/wp-content/uploads/2025/01/qtq80-UOzdH5.jpeg
END:VEVENT
BEGIN:VEVENT
DTSTART;TZID=America/Los_Angeles:20260314T080000
DTEND;TZID=America/Los_Angeles:20260314T170000
DTSTAMP:20260419T212452
CREATED:20260111T192550Z
LAST-MODIFIED:20260111T192550Z
UID:10000075-1773475200-1773507600@kikaha.com
SUMMARY:2026 Winter Series #6 – Kai Ikaika
DESCRIPTION:
URL:https://kikaha.com/event/2026-winter-series-6-kai-ikaika/
LOCATION:Portland Boathouse Dock\, 1515 SE Water Ave\, Portland\, OR\, 97214\, United States
CATEGORIES:Small Boat (OC1/OC2/V1) Race
END:VEVENT
BEGIN:VEVENT
DTSTART;TZID=America/Los_Angeles:20260314T173000
DTEND;TZID=America/Los_Angeles:20260314T203000
DTSTAMP:20260419T212452
CREATED:20260415T005514Z
LAST-MODIFIED:20260415T005747Z
UID:10000185-1773509400-1773520200@kikaha.com
SUMMARY:Saturday Practice
DESCRIPTION:
URL:https://kikaha.com/event/saturday-practice/2026-03-14/
LOCATION:Foss Practice Site\, 1930 E D Street\, Tacoma\, WA\, 98421\, United States
CATEGORIES:Practice
GEO:47.2435744;-122.4310179
X-APPLE-STRUCTURED-LOCATION;VALUE=URI;X-ADDRESS=Foss Practice Site 1930 E D Street Tacoma WA 98421 United States;X-APPLE-RADIUS=500;X-TITLE=1930 E D Street:geo:-122.4310179,47.2435744
END:VEVENT
BEGIN:VEVENT
DTSTART;TZID=America/Los_Angeles:20260321T173000
DTEND;TZID=America/Los_Angeles:20260321T203000
DTSTAMP:20260419T212452
CREATED:20260415T005514Z
LAST-MODIFIED:20260415T005747Z
UID:10000186-1774114200-1774125000@kikaha.com
SUMMARY:Saturday Practice
DESCRIPTION:
URL:https://kikaha.com/event/saturday-practice/2026-03-21/
LOCATION:Foss Practice Site\, 1930 E D Street\, Tacoma\, WA\, 98421\, United States
CATEGORIES:Practice
GEO:47.2435744;-122.4310179
X-APPLE-STRUCTURED-LOCATION;VALUE=URI;X-ADDRESS=Foss Practice Site 1930 E D Street Tacoma WA 98421 United States;X-APPLE-RADIUS=500;X-TITLE=1930 E D Street:geo:-122.4310179,47.2435744
END:VEVENT
BEGIN:VEVENT
DTSTART;TZID=America/Los_Angeles:20260328T173000
DTEND;TZID=America/Los_Angeles:20260328T203000
DTSTAMP:20260419T212452
CREATED:20260415T005514Z
LAST-MODIFIED:20260415T005747Z
UID:10000187-1774719000-1774729800@kikaha.com
SUMMARY:Saturday Practice
DESCRIPTION:
URL:https://kikaha.com/event/saturday-practice/2026-03-28/
LOCATION:Foss Practice Site\, 1930 E D Street\, Tacoma\, WA\, 98421\, United States
CATEGORIES:Practice
GEO:47.2435744;-122.4310179
X-APPLE-STRUCTURED-LOCATION;VALUE=URI;X-ADDRESS=Foss Practice Site 1930 E D Street Tacoma WA 98421 United States;X-APPLE-RADIUS=500;X-TITLE=1930 E D Street:geo:-122.4310179,47.2435744
END:VEVENT
BEGIN:VEVENT
DTSTART;TZID=America/Los_Angeles:20260404T173000
DTEND;TZID=America/Los_Angeles:20260404T203000
DTSTAMP:20260419T212452
CREATED:20260415T005514Z
LAST-MODIFIED:20260415T005747Z
UID:10000188-1775323800-1775334600@kikaha.com
SUMMARY:Saturday Practice
DESCRIPTION:
URL:https://kikaha.com/event/saturday-practice/2026-04-04/
LOCATION:Foss Practice Site\, 1930 E D Street\, Tacoma\, WA\, 98421\, United States
CATEGORIES:Practice
GEO:47.2435744;-122.4310179
X-APPLE-STRUCTURED-LOCATION;VALUE=URI;X-ADDRESS=Foss Practice Site 1930 E D Street Tacoma WA 98421 United States;X-APPLE-RADIUS=500;X-TITLE=1930 E D Street:geo:-122.4310179,47.2435744
END:VEVENT
BEGIN:VEVENT
DTSTART;TZID=America/Los_Angeles:20260407T173000
DTEND;TZID=America/Los_Angeles:20260407T203000
DTSTAMP:20260419T212452
CREATED:20260415T005343Z
LAST-MODIFIED:20260415T005830Z
UID:10000080-1775583000-1775593800@kikaha.com
SUMMARY:Weekday Practice
DESCRIPTION:
URL:https://kikaha.com/event/weekday-practice/2026-04-07/
LOCATION:Foss Practice Site\, 1930 E D Street\, Tacoma\, WA\, 98421\, United States
CATEGORIES:Practice
GEO:47.2435744;-122.4310179
X-APPLE-STRUCTURED-LOCATION;VALUE=URI;X-ADDRESS=Foss Practice Site 1930 E D Street Tacoma WA 98421 United States;X-APPLE-RADIUS=500;X-TITLE=1930 E D Street:geo:-122.4310179,47.2435744
END:VEVENT
BEGIN:VEVENT
DTSTART;TZID=America/Los_Angeles:20260409T173000
DTEND;TZID=America/Los_Angeles:20260409T203000
DTSTAMP:20260419T212452
CREATED:20260415T005343Z
LAST-MODIFIED:20260415T005830Z
UID:10000081-1775755800-1775766600@kikaha.com
SUMMARY:Weekday Practice
DESCRIPTION:
URL:https://kikaha.com/event/weekday-practice/2026-04-09/
LOCATION:Foss Practice Site\, 1930 E D Street\, Tacoma\, WA\, 98421\, United States
CATEGORIES:Practice
GEO:47.2435744;-122.4310179
X-APPLE-STRUCTURED-LOCATION;VALUE=URI;X-ADDRESS=Foss Practice Site 1930 E D Street Tacoma WA 98421 United States;X-APPLE-RADIUS=500;X-TITLE=1930 E D Street:geo:-122.4310179,47.2435744
END:VEVENT
BEGIN:VEVENT
DTSTART;TZID=America/Los_Angeles:20260411T173000
DTEND;TZID=America/Los_Angeles:20260411T203000
DTSTAMP:20260419T212452
CREATED:20260415T005514Z
LAST-MODIFIED:20260415T005747Z
UID:10000189-1775928600-1775939400@kikaha.com
SUMMARY:Saturday Practice
DESCRIPTION:
URL:https://kikaha.com/event/saturday-practice/2026-04-11/
LOCATION:Foss Practice Site\, 1930 E D Street\, Tacoma\, WA\, 98421\, United States
CATEGORIES:Practice
GEO:47.2435744;-122.4310179
X-APPLE-STRUCTURED-LOCATION;VALUE=URI;X-ADDRESS=Foss Practice Site 1930 E D Street Tacoma WA 98421 United States;X-APPLE-RADIUS=500;X-TITLE=1930 E D Street:geo:-122.4310179,47.2435744
END:VEVENT
BEGIN:VEVENT
DTSTART;TZID=America/Los_Angeles:20260414T173000
DTEND;TZID=America/Los_Angeles:20260414T203000
DTSTAMP:20260419T212452
CREATED:20260415T005343Z
LAST-MODIFIED:20260415T005830Z
UID:10000082-1776187800-1776198600@kikaha.com
SUMMARY:Weekday Practice
DESCRIPTION:
URL:https://kikaha.com/event/weekday-practice/2026-04-14/
LOCATION:Foss Practice Site\, 1930 E D Street\, Tacoma\, WA\, 98421\, United States
CATEGORIES:Practice
GEO:47.2435744;-122.4310179
X-APPLE-STRUCTURED-LOCATION;VALUE=URI;X-ADDRESS=Foss Practice Site 1930 E D Street Tacoma WA 98421 United States;X-APPLE-RADIUS=500;X-TITLE=1930 E D Street:geo:-122.4310179,47.2435744
END:VEVENT
BEGIN:VEVENT
DTSTART;TZID=America/Los_Angeles:20260416T173000
DTEND;TZID=America/Los_Angeles:20260416T203000
DTSTAMP:20260419T212452
CREATED:20260415T005343Z
LAST-MODIFIED:20260415T005830Z
UID:10000083-1776360600-1776371400@kikaha.com
SUMMARY:Weekday Practice
DESCRIPTION:
URL:https://kikaha.com/event/weekday-practice/2026-04-16/
LOCATION:Foss Practice Site\, 1930 E D Street\, Tacoma\, WA\, 98421\, United States
CATEGORIES:Practice
GEO:47.2435744;-122.4310179
X-APPLE-STRUCTURED-LOCATION;VALUE=URI;X-ADDRESS=Foss Practice Site 1930 E D Street Tacoma WA 98421 United States;X-APPLE-RADIUS=500;X-TITLE=1930 E D Street:geo:-122.4310179,47.2435744
END:VEVENT
BEGIN:VEVENT
DTSTART;TZID=America/Los_Angeles:20260418T173000
DTEND;TZID=America/Los_Angeles:20260418T203000
DTSTAMP:20260419T212452
CREATED:20260415T005514Z
LAST-MODIFIED:20260415T005747Z
UID:10000190-1776533400-1776544200@kikaha.com
SUMMARY:Saturday Practice
DESCRIPTION:
URL:https://kikaha.com/event/saturday-practice/2026-04-18/
LOCATION:Foss Practice Site\, 1930 E D Street\, Tacoma\, WA\, 98421\, United States
CATEGORIES:Practice
GEO:47.2435744;-122.4310179
X-APPLE-STRUCTURED-LOCATION;VALUE=URI;X-ADDRESS=Foss Practice Site 1930 E D Street Tacoma WA 98421 United States;X-APPLE-RADIUS=500;X-TITLE=1930 E D Street:geo:-122.4310179,47.2435744
END:VEVENT
BEGIN:VEVENT
DTSTART;TZID=America/Los_Angeles:20260421T173000
DTEND;TZID=America/Los_Angeles:20260421T203000
DTSTAMP:20260419T212452
CREATED:20260415T005343Z
LAST-MODIFIED:20260415T005830Z
UID:10000084-1776792600-1776803400@kikaha.com
SUMMARY:Weekday Practice
DESCRIPTION:
URL:https://kikaha.com/event/weekday-practice/2026-04-21/
LOCATION:Foss Practice Site\, 1930 E D Street\, Tacoma\, WA\, 98421\, United States
CATEGORIES:Practice
GEO:47.2435744;-122.4310179
X-APPLE-STRUCTURED-LOCATION;VALUE=URI;X-ADDRESS=Foss Practice Site 1930 E D Street Tacoma WA 98421 United States;X-APPLE-RADIUS=500;X-TITLE=1930 E D Street:geo:-122.4310179,47.2435744
END:VEVENT
BEGIN:VEVENT
DTSTART;TZID=America/Los_Angeles:20260423T173000
DTEND;TZID=America/Los_Angeles:20260423T203000
DTSTAMP:20260419T212452
CREATED:20260415T005343Z
LAST-MODIFIED:20260415T005830Z
UID:10000085-1776965400-1776976200@kikaha.com
SUMMARY:Weekday Practice
DESCRIPTION:
URL:https://kikaha.com/event/weekday-practice/2026-04-23/
LOCATION:Foss Practice Site\, 1930 E D Street\, Tacoma\, WA\, 98421\, United States
CATEGORIES:Practice
GEO:47.2435744;-122.4310179
X-APPLE-STRUCTURED-LOCATION;VALUE=URI;X-ADDRESS=Foss Practice Site 1930 E D Street Tacoma WA 98421 United States;X-APPLE-RADIUS=500;X-TITLE=1930 E D Street:geo:-122.4310179,47.2435744
END:VEVENT
BEGIN:VEVENT
DTSTART;TZID=America/Los_Angeles:20260425T080000
DTEND;TZID=America/Los_Angeles:20260425T170000
DTSTAMP:20260419T212452
CREATED:20260413T191440Z
LAST-MODIFIED:20260415T003027Z
UID:10000051-1777104000-1777136400@kikaha.com
SUMMARY:Pacific Outrigger Rusty Iron
DESCRIPTION:
URL:https://kikaha.com/event/pacific-outrigger-rusty-iron/
LOCATION:Frenchman’s Bar Regional Park\, 9612 NW Lower River Rd\, Vancouver\, WA\, 98660\, United States
CATEGORIES:Distance Race,Iron,Short Course
END:VEVENT
BEGIN:VEVENT
DTSTART;TZID=America/Los_Angeles:20260425T173000
DTEND;TZID=America/Los_Angeles:20260425T203000
DTSTAMP:20260419T212452
CREATED:20260415T005514Z
LAST-MODIFIED:20260415T005747Z
UID:10000191-1777138200-1777149000@kikaha.com
SUMMARY:Saturday Practice
DESCRIPTION:
URL:https://kikaha.com/event/saturday-practice/2026-04-25/
LOCATION:Foss Practice Site\, 1930 E D Street\, Tacoma\, WA\, 98421\, United States
CATEGORIES:Practice
GEO:47.2435744;-122.4310179
X-APPLE-STRUCTURED-LOCATION;VALUE=URI;X-ADDRESS=Foss Practice Site 1930 E D Street Tacoma WA 98421 United States;X-APPLE-RADIUS=500;X-TITLE=1930 E D Street:geo:-122.4310179,47.2435744
END:VEVENT
BEGIN:VEVENT
DTSTART;TZID=America/Los_Angeles:20260428T173000
DTEND;TZID=America/Los_Angeles:20260428T203000
DTSTAMP:20260419T212452
CREATED:20260415T005343Z
LAST-MODIFIED:20260415T005830Z
UID:10000086-1777397400-1777408200@kikaha.com
SUMMARY:Weekday Practice
DESCRIPTION:
URL:https://kikaha.com/event/weekday-practice/2026-04-28/
LOCATION:Foss Practice Site\, 1930 E D Street\, Tacoma\, WA\, 98421\, United States
CATEGORIES:Practice
GEO:47.2435744;-122.4310179
X-APPLE-STRUCTURED-LOCATION;VALUE=URI;X-ADDRESS=Foss Practice Site 1930 E D Street Tacoma WA 98421 United States;X-APPLE-RADIUS=500;X-TITLE=1930 E D Street:geo:-122.4310179,47.2435744
END:VEVENT
BEGIN:VEVENT
DTSTART;TZID=America/Los_Angeles:20260430T173000
DTEND;TZID=America/Los_Angeles:20260430T203000
DTSTAMP:20260419T212452
CREATED:20260415T005343Z
LAST-MODIFIED:20260415T005830Z
UID:10000087-1777570200-1777581000@kikaha.com
SUMMARY:Weekday Practice
DESCRIPTION:
URL:https://kikaha.com/event/weekday-practice/2026-04-30/
LOCATION:Foss Practice Site\, 1930 E D Street\, Tacoma\, WA\, 98421\, United States
CATEGORIES:Practice
GEO:47.2435744;-122.4310179
X-APPLE-STRUCTURED-LOCATION;VALUE=URI;X-ADDRESS=Foss Practice Site 1930 E D Street Tacoma WA 98421 United States;X-APPLE-RADIUS=500;X-TITLE=1930 E D Street:geo:-122.4310179,47.2435744
END:VEVENT
BEGIN:VEVENT
DTSTART;TZID=America/Los_Angeles:20260502T080000
DTEND;TZID=America/Los_Angeles:20260502T170000
DTSTAMP:20260419T212452
CREATED:20260413T191658Z
LAST-MODIFIED:20260415T002937Z
UID:10000052-1777708800-1777741200@kikaha.com
SUMMARY:CROCC - Race Around the Island (RATI)
DESCRIPTION:
URL:https://kikaha.com/event/crocc-race-around-the-island-rati/
LOCATION:Chinook Landing Marine Park\, 22300 NE Marine Dr\, Fairview\, OR\, 97024
CATEGORIES:Distance Race,Iron,Short Course
GEO:45.5571717;-122.4343871
X-APPLE-STRUCTURED-LOCATION;VALUE=URI;X-ADDRESS=Chinook Landing Marine Park 22300 NE Marine Dr Fairview OR 97024;X-APPLE-RADIUS=500;X-TITLE=22300 NE Marine Dr:geo:-122.4343871,45.5571717
END:VEVENT
BEGIN:VEVENT
DTSTART;TZID=America/Los_Angeles:20260502T173000
DTEND;TZID=America/Los_Angeles:20260502T203000
DTSTAMP:20260419T212452
CREATED:20260415T005514Z
LAST-MODIFIED:20260415T005747Z
UID:10000192-1777743000-1777753800@kikaha.com
SUMMARY:Saturday Practice
DESCRIPTION:
URL:https://kikaha.com/event/saturday-practice/2026-05-02/
LOCATION:Foss Practice Site\, 1930 E D Street\, Tacoma\, WA\, 98421\, United States
CATEGORIES:Practice
GEO:47.2435744;-122.4310179
X-APPLE-STRUCTURED-LOCATION;VALUE=URI;X-ADDRESS=Foss Practice Site 1930 E D Street Tacoma WA 98421 United States;X-APPLE-RADIUS=500;X-TITLE=1930 E D Street:geo:-122.4310179,47.2435744
END:VEVENT
BEGIN:VEVENT
DTSTART;TZID=America/Los_Angeles:20260505T173000
DTEND;TZID=America/Los_Angeles:20260505T203000
DTSTAMP:20260419T212452
CREATED:20260415T005343Z
LAST-MODIFIED:20260415T005830Z
UID:10000088-1778002200-1778013000@kikaha.com
SUMMARY:Weekday Practice
DESCRIPTION:
URL:https://kikaha.com/event/weekday-practice/2026-05-05/
LOCATION:Foss Practice Site\, 1930 E D Street\, Tacoma\, WA\, 98421\, United States
CATEGORIES:Practice
GEO:47.2435744;-122.4310179
X-APPLE-STRUCTURED-LOCATION;VALUE=URI;X-ADDRESS=Foss Practice Site 1930 E D Street Tacoma WA 98421 United States;X-APPLE-RADIUS=500;X-TITLE=1930 E D Street:geo:-122.4310179,47.2435744
END:VEVENT
BEGIN:VEVENT
DTSTART;TZID=America/Los_Angeles:20260507T173000
DTEND;TZID=America/Los_Angeles:20260507T203000
DTSTAMP:20260419T212452
CREATED:20260415T005343Z
LAST-MODIFIED:20260415T005830Z
UID:10000089-1778175000-1778185800@kikaha.com
SUMMARY:Weekday Practice
DESCRIPTION:
URL:https://kikaha.com/event/weekday-practice/2026-05-07/
LOCATION:Foss Practice Site\, 1930 E D Street\, Tacoma\, WA\, 98421\, United States
CATEGORIES:Practice
GEO:47.2435744;-122.4310179
X-APPLE-STRUCTURED-LOCATION;VALUE=URI;X-ADDRESS=Foss Practice Site 1930 E D Street Tacoma WA 98421 United States;X-APPLE-RADIUS=500;X-TITLE=1930 E D Street:geo:-122.4310179,47.2435744
END:VEVENT
BEGIN:VEVENT
DTSTART;TZID=America/Los_Angeles:20260509T173000
DTEND;TZID=America/Los_Angeles:20260509T203000
DTSTAMP:20260419T212452
CREATED:20260415T005514Z
LAST-MODIFIED:20260415T005747Z
UID:10000193-1778347800-1778358600@kikaha.com
SUMMARY:Saturday Practice
DESCRIPTION:
URL:https://kikaha.com/event/saturday-practice/2026-05-09/
LOCATION:Foss Practice Site\, 1930 E D Street\, Tacoma\, WA\, 98421\, United States
CATEGORIES:Practice
GEO:47.2435744;-122.4310179
X-APPLE-STRUCTURED-LOCATION;VALUE=URI;X-ADDRESS=Foss Practice Site 1930 E D Street Tacoma WA 98421 United States;X-APPLE-RADIUS=500;X-TITLE=1930 E D Street:geo:-122.4310179,47.2435744
END:VEVENT
BEGIN:VEVENT
DTSTART;TZID=America/Los_Angeles:20260512T173000
DTEND;TZID=America/Los_Angeles:20260512T203000
DTSTAMP:20260419T212452
CREATED:20260415T005343Z
LAST-MODIFIED:20260415T005830Z
UID:10000090-1778607000-1778617800@kikaha.com
SUMMARY:Weekday Practice
DESCRIPTION:
URL:https://kikaha.com/event/weekday-practice/2026-05-12/
LOCATION:Foss Practice Site\, 1930 E D Street\, Tacoma\, WA\, 98421\, United States
CATEGORIES:Practice
GEO:47.2435744;-122.4310179
X-APPLE-STRUCTURED-LOCATION;VALUE=URI;X-ADDRESS=Foss Practice Site 1930 E D Street Tacoma WA 98421 United States;X-APPLE-RADIUS=500;X-TITLE=1930 E D Street:geo:-122.4310179,47.2435744
END:VEVENT
END:VCALENDAR