BEGIN:VCALENDAR
VERSION:2.0
PRODID:-//Kikaha O Ke Kai - ECPv6.15.20//NONSGML v1.0//EN
CALSCALE:GREGORIAN
METHOD:PUBLISH
X-ORIGINAL-URL:https://kikaha.com
X-WR-CALDESC:Events for Kikaha O Ke Kai
REFRESH-INTERVAL;VALUE=DURATION:PT1H
X-Robots-Tag:noindex
X-PUBLISHED-TTL:PT1H
BEGIN:VTIMEZONE
TZID:America/Los_Angeles
BEGIN:DAYLIGHT
TZOFFSETFROM:-0800
TZOFFSETTO:-0700
TZNAME:PDT
DTSTART:20250309T100000
END:DAYLIGHT
BEGIN:STANDARD
TZOFFSETFROM:-0700
TZOFFSETTO:-0800
TZNAME:PST
DTSTART:20251102T090000
END:STANDARD
BEGIN:DAYLIGHT
TZOFFSETFROM:-0800
TZOFFSETTO:-0700
TZNAME:PDT
DTSTART:20260308T100000
END:DAYLIGHT
BEGIN:STANDARD
TZOFFSETFROM:-0700
TZOFFSETTO:-0800
TZNAME:PST
DTSTART:20261101T090000
END:STANDARD
BEGIN:DAYLIGHT
TZOFFSETFROM:-0800
TZOFFSETTO:-0700
TZNAME:PDT
DTSTART:20270314T100000
END:DAYLIGHT
BEGIN:STANDARD
TZOFFSETFROM:-0700
TZOFFSETTO:-0800
TZNAME:PST
DTSTART:20271107T090000
END:STANDARD
END:VTIMEZONE
BEGIN:VEVENT
DTSTART;TZID=America/Los_Angeles:20260519T173000
DTEND;TZID=America/Los_Angeles:20260519T203000
DTSTAMP:20260419T113630
CREATED:20260415T005343Z
LAST-MODIFIED:20260415T005830Z
UID:10000092-1779211800-1779222600@kikaha.com
SUMMARY:Weekday Practice
DESCRIPTION:
URL:https://kikaha.com/event/weekday-practice/2026-05-19/
LOCATION:Foss Practice Site\, 1930 E D Street\, Tacoma\, WA\, 98421\, United States
CATEGORIES:Practice
GEO:47.2435744;-122.4310179
X-APPLE-STRUCTURED-LOCATION;VALUE=URI;X-ADDRESS=Foss Practice Site 1930 E D Street Tacoma WA 98421 United States;X-APPLE-RADIUS=500;X-TITLE=1930 E D Street:geo:-122.4310179,47.2435744
END:VEVENT
BEGIN:VEVENT
DTSTART;TZID=America/Los_Angeles:20260521T173000
DTEND;TZID=America/Los_Angeles:20260521T203000
DTSTAMP:20260419T113630
CREATED:20260415T005343Z
LAST-MODIFIED:20260415T005830Z
UID:10000093-1779384600-1779395400@kikaha.com
SUMMARY:Weekday Practice
DESCRIPTION:
URL:https://kikaha.com/event/weekday-practice/2026-05-21/
LOCATION:Foss Practice Site\, 1930 E D Street\, Tacoma\, WA\, 98421\, United States
CATEGORIES:Practice
GEO:47.2435744;-122.4310179
X-APPLE-STRUCTURED-LOCATION;VALUE=URI;X-ADDRESS=Foss Practice Site 1930 E D Street Tacoma WA 98421 United States;X-APPLE-RADIUS=500;X-TITLE=1930 E D Street:geo:-122.4310179,47.2435744
END:VEVENT
BEGIN:VEVENT
DTSTART;TZID=America/Los_Angeles:20260523T080000
DTEND;TZID=America/Los_Angeles:20260523T170000
DTSTAMP:20260419T113630
CREATED:20260413T112155Z
LAST-MODIFIED:20260415T002350Z
UID:10000054-1779523200-1779555600@kikaha.com
SUMMARY:Na Po’e O Ke Kai Springs (Green Lake Sprints) – Hosted by Wakinikona
DESCRIPTION:
URL:https://kikaha.com/event/na-poe-o-ke-kai-springs-green-lake-sprints-hosted-by-wakinikona/
LOCATION:Greenlake Park\, 5900 West Green Lake Way N\, Seattle\, WA\, 98103
CATEGORIES:OC6,Short Course,Small Boat (OC1/OC2/V1) Race,Sprint Race
GEO:47.6716959;-122.3430429
X-APPLE-STRUCTURED-LOCATION;VALUE=URI;X-ADDRESS=Greenlake Park 5900 West Green Lake Way N Seattle WA 98103;X-APPLE-RADIUS=500;X-TITLE=5900 West Green Lake Way N:geo:-122.3430429,47.6716959
END:VEVENT
BEGIN:VEVENT
DTSTART;TZID=America/Los_Angeles:20260523T173000
DTEND;TZID=America/Los_Angeles:20260523T203000
DTSTAMP:20260419T113630
CREATED:20260415T005514Z
LAST-MODIFIED:20260415T005747Z
UID:10000195-1779557400-1779568200@kikaha.com
SUMMARY:Saturday Practice
DESCRIPTION:
URL:https://kikaha.com/event/saturday-practice/2026-05-23/
LOCATION:Foss Practice Site\, 1930 E D Street\, Tacoma\, WA\, 98421\, United States
CATEGORIES:Practice
GEO:47.2435744;-122.4310179
X-APPLE-STRUCTURED-LOCATION;VALUE=URI;X-ADDRESS=Foss Practice Site 1930 E D Street Tacoma WA 98421 United States;X-APPLE-RADIUS=500;X-TITLE=1930 E D Street:geo:-122.4310179,47.2435744
END:VEVENT
BEGIN:VEVENT
DTSTART;TZID=America/Los_Angeles:20260526T173000
DTEND;TZID=America/Los_Angeles:20260526T203000
DTSTAMP:20260419T113630
CREATED:20260415T005343Z
LAST-MODIFIED:20260415T005830Z
UID:10000094-1779816600-1779827400@kikaha.com
SUMMARY:Weekday Practice
DESCRIPTION:
URL:https://kikaha.com/event/weekday-practice/2026-05-26/
LOCATION:Foss Practice Site\, 1930 E D Street\, Tacoma\, WA\, 98421\, United States
CATEGORIES:Practice
GEO:47.2435744;-122.4310179
X-APPLE-STRUCTURED-LOCATION;VALUE=URI;X-ADDRESS=Foss Practice Site 1930 E D Street Tacoma WA 98421 United States;X-APPLE-RADIUS=500;X-TITLE=1930 E D Street:geo:-122.4310179,47.2435744
END:VEVENT
BEGIN:VEVENT
DTSTART;TZID=America/Los_Angeles:20260528T173000
DTEND;TZID=America/Los_Angeles:20260528T203000
DTSTAMP:20260419T113630
CREATED:20260415T005343Z
LAST-MODIFIED:20260415T005830Z
UID:10000095-1779989400-1780000200@kikaha.com
SUMMARY:Weekday Practice
DESCRIPTION:
URL:https://kikaha.com/event/weekday-practice/2026-05-28/
LOCATION:Foss Practice Site\, 1930 E D Street\, Tacoma\, WA\, 98421\, United States
CATEGORIES:Practice
GEO:47.2435744;-122.4310179
X-APPLE-STRUCTURED-LOCATION;VALUE=URI;X-ADDRESS=Foss Practice Site 1930 E D Street Tacoma WA 98421 United States;X-APPLE-RADIUS=500;X-TITLE=1930 E D Street:geo:-122.4310179,47.2435744
END:VEVENT
BEGIN:VEVENT
DTSTART;TZID=America/Los_Angeles:20260530T173000
DTEND;TZID=America/Los_Angeles:20260530T203000
DTSTAMP:20260419T113630
CREATED:20260415T005514Z
LAST-MODIFIED:20260415T005747Z
UID:10000196-1780162200-1780173000@kikaha.com
SUMMARY:Saturday Practice
DESCRIPTION:
URL:https://kikaha.com/event/saturday-practice/2026-05-30/
LOCATION:Foss Practice Site\, 1930 E D Street\, Tacoma\, WA\, 98421\, United States
CATEGORIES:Practice
GEO:47.2435744;-122.4310179
X-APPLE-STRUCTURED-LOCATION;VALUE=URI;X-ADDRESS=Foss Practice Site 1930 E D Street Tacoma WA 98421 United States;X-APPLE-RADIUS=500;X-TITLE=1930 E D Street:geo:-122.4310179,47.2435744
END:VEVENT
BEGIN:VEVENT
DTSTART;TZID=America/Los_Angeles:20260602T173000
DTEND;TZID=America/Los_Angeles:20260602T203000
DTSTAMP:20260419T113630
CREATED:20260415T005343Z
LAST-MODIFIED:20260415T005830Z
UID:10000096-1780421400-1780432200@kikaha.com
SUMMARY:Weekday Practice
DESCRIPTION:
URL:https://kikaha.com/event/weekday-practice/2026-06-02/
LOCATION:Foss Practice Site\, 1930 E D Street\, Tacoma\, WA\, 98421\, United States
CATEGORIES:Practice
GEO:47.2435744;-122.4310179
X-APPLE-STRUCTURED-LOCATION;VALUE=URI;X-ADDRESS=Foss Practice Site 1930 E D Street Tacoma WA 98421 United States;X-APPLE-RADIUS=500;X-TITLE=1930 E D Street:geo:-122.4310179,47.2435744
END:VEVENT
BEGIN:VEVENT
DTSTART;TZID=America/Los_Angeles:20260604T173000
DTEND;TZID=America/Los_Angeles:20260604T203000
DTSTAMP:20260419T113630
CREATED:20260415T005343Z
LAST-MODIFIED:20260415T005830Z
UID:10000097-1780594200-1780605000@kikaha.com
SUMMARY:Weekday Practice
DESCRIPTION:
URL:https://kikaha.com/event/weekday-practice/2026-06-04/
LOCATION:Foss Practice Site\, 1930 E D Street\, Tacoma\, WA\, 98421\, United States
CATEGORIES:Practice
GEO:47.2435744;-122.4310179
X-APPLE-STRUCTURED-LOCATION;VALUE=URI;X-ADDRESS=Foss Practice Site 1930 E D Street Tacoma WA 98421 United States;X-APPLE-RADIUS=500;X-TITLE=1930 E D Street:geo:-122.4310179,47.2435744
END:VEVENT
BEGIN:VEVENT
DTSTART;TZID=America/Los_Angeles:20260606T080000
DTEND;TZID=America/Los_Angeles:20260606T170000
DTSTAMP:20260419T113630
CREATED:20260413T192355Z
LAST-MODIFIED:20260415T002559Z
UID:10000055-1780732800-1780765200@kikaha.com
SUMMARY:Hui Heihei Wa’a Sprints – Silverdale Sprints
DESCRIPTION:
URL:https://kikaha.com/event/hui-heihei-waa-sprints-silverdale-sprints/
LOCATION:Silverdale Waterfront Park\, 3337 NW Byron St\, Silverdale\, WA\, 98383
CATEGORIES:OC6,Short Course,Small Boat (OC1/OC2/V1) Race,Sprint Race
GEO:47.6441204;-122.6944622
X-APPLE-STRUCTURED-LOCATION;VALUE=URI;X-ADDRESS=Silverdale Waterfront Park 3337 NW Byron St Silverdale WA 98383;X-APPLE-RADIUS=500;X-TITLE=3337 NW Byron St:geo:-122.6944622,47.6441204
END:VEVENT
BEGIN:VEVENT
DTSTART;TZID=America/Los_Angeles:20260606T173000
DTEND;TZID=America/Los_Angeles:20260606T203000
DTSTAMP:20260419T113630
CREATED:20260415T005514Z
LAST-MODIFIED:20260415T005747Z
UID:10000197-1780767000-1780777800@kikaha.com
SUMMARY:Saturday Practice
DESCRIPTION:
URL:https://kikaha.com/event/saturday-practice/2026-06-06/
LOCATION:Foss Practice Site\, 1930 E D Street\, Tacoma\, WA\, 98421\, United States
CATEGORIES:Practice
GEO:47.2435744;-122.4310179
X-APPLE-STRUCTURED-LOCATION;VALUE=URI;X-ADDRESS=Foss Practice Site 1930 E D Street Tacoma WA 98421 United States;X-APPLE-RADIUS=500;X-TITLE=1930 E D Street:geo:-122.4310179,47.2435744
END:VEVENT
BEGIN:VEVENT
DTSTART;TZID=America/Los_Angeles:20260609T173000
DTEND;TZID=America/Los_Angeles:20260609T203000
DTSTAMP:20260419T113630
CREATED:20260415T005343Z
LAST-MODIFIED:20260415T005830Z
UID:10000098-1781026200-1781037000@kikaha.com
SUMMARY:Weekday Practice
DESCRIPTION:
URL:https://kikaha.com/event/weekday-practice/2026-06-09/
LOCATION:Foss Practice Site\, 1930 E D Street\, Tacoma\, WA\, 98421\, United States
CATEGORIES:Practice
GEO:47.2435744;-122.4310179
X-APPLE-STRUCTURED-LOCATION;VALUE=URI;X-ADDRESS=Foss Practice Site 1930 E D Street Tacoma WA 98421 United States;X-APPLE-RADIUS=500;X-TITLE=1930 E D Street:geo:-122.4310179,47.2435744
END:VEVENT
BEGIN:VEVENT
DTSTART;TZID=America/Los_Angeles:20260611T173000
DTEND;TZID=America/Los_Angeles:20260611T203000
DTSTAMP:20260419T113630
CREATED:20260415T005343Z
LAST-MODIFIED:20260415T005830Z
UID:10000099-1781199000-1781209800@kikaha.com
SUMMARY:Weekday Practice
DESCRIPTION:
URL:https://kikaha.com/event/weekday-practice/2026-06-11/
LOCATION:Foss Practice Site\, 1930 E D Street\, Tacoma\, WA\, 98421\, United States
CATEGORIES:Practice
GEO:47.2435744;-122.4310179
X-APPLE-STRUCTURED-LOCATION;VALUE=URI;X-ADDRESS=Foss Practice Site 1930 E D Street Tacoma WA 98421 United States;X-APPLE-RADIUS=500;X-TITLE=1930 E D Street:geo:-122.4310179,47.2435744
END:VEVENT
BEGIN:VEVENT
DTSTART;TZID=America/Los_Angeles:20260613T080000
DTEND;TZID=America/Los_Angeles:20260613T170000
DTSTAMP:20260419T113630
CREATED:20260413T192624Z
LAST-MODIFIED:20260415T002711Z
UID:10000056-1781337600-1781370000@kikaha.com
SUMMARY:Hui Wa’a O Puget Sound Sprints – Silver Lake Sprints
DESCRIPTION:
URL:https://kikaha.com/event/hui-waa-o-puget-sound-sprints-silver-lake-sprints/
LOCATION:Thornton Sullivan Park\, 11405 Silver Lake Rd\, Everett\, WA\, 98208
CATEGORIES:OC6,Short Course,Small Boat (OC1/OC2/V1) Race,Sprint Race
GEO:47.8961179;-122.2134334
X-APPLE-STRUCTURED-LOCATION;VALUE=URI;X-ADDRESS=Thornton Sullivan Park 11405 Silver Lake Rd Everett WA 98208;X-APPLE-RADIUS=500;X-TITLE=11405 Silver Lake Rd:geo:-122.2134334,47.8961179
END:VEVENT
BEGIN:VEVENT
DTSTART;TZID=America/Los_Angeles:20260613T173000
DTEND;TZID=America/Los_Angeles:20260613T203000
DTSTAMP:20260419T113630
CREATED:20260415T005514Z
LAST-MODIFIED:20260415T005747Z
UID:10000198-1781371800-1781382600@kikaha.com
SUMMARY:Saturday Practice
DESCRIPTION:
URL:https://kikaha.com/event/saturday-practice/2026-06-13/
LOCATION:Foss Practice Site\, 1930 E D Street\, Tacoma\, WA\, 98421\, United States
CATEGORIES:Practice
GEO:47.2435744;-122.4310179
X-APPLE-STRUCTURED-LOCATION;VALUE=URI;X-ADDRESS=Foss Practice Site 1930 E D Street Tacoma WA 98421 United States;X-APPLE-RADIUS=500;X-TITLE=1930 E D Street:geo:-122.4310179,47.2435744
END:VEVENT
BEGIN:VEVENT
DTSTART;TZID=America/Los_Angeles:20260616T173000
DTEND;TZID=America/Los_Angeles:20260616T203000
DTSTAMP:20260419T113630
CREATED:20260415T005343Z
LAST-MODIFIED:20260415T005830Z
UID:10000100-1781631000-1781641800@kikaha.com
SUMMARY:Weekday Practice
DESCRIPTION:
URL:https://kikaha.com/event/weekday-practice/2026-06-16/
LOCATION:Foss Practice Site\, 1930 E D Street\, Tacoma\, WA\, 98421\, United States
CATEGORIES:Practice
GEO:47.2435744;-122.4310179
X-APPLE-STRUCTURED-LOCATION;VALUE=URI;X-ADDRESS=Foss Practice Site 1930 E D Street Tacoma WA 98421 United States;X-APPLE-RADIUS=500;X-TITLE=1930 E D Street:geo:-122.4310179,47.2435744
END:VEVENT
BEGIN:VEVENT
DTSTART;TZID=America/Los_Angeles:20260618T173000
DTEND;TZID=America/Los_Angeles:20260618T203000
DTSTAMP:20260419T113630
CREATED:20260415T005343Z
LAST-MODIFIED:20260415T005830Z
UID:10000101-1781803800-1781814600@kikaha.com
SUMMARY:Weekday Practice
DESCRIPTION:
URL:https://kikaha.com/event/weekday-practice/2026-06-18/
LOCATION:Foss Practice Site\, 1930 E D Street\, Tacoma\, WA\, 98421\, United States
CATEGORIES:Practice
GEO:47.2435744;-122.4310179
X-APPLE-STRUCTURED-LOCATION;VALUE=URI;X-ADDRESS=Foss Practice Site 1930 E D Street Tacoma WA 98421 United States;X-APPLE-RADIUS=500;X-TITLE=1930 E D Street:geo:-122.4310179,47.2435744
END:VEVENT
BEGIN:VEVENT
DTSTART;TZID=America/Los_Angeles:20260620T173000
DTEND;TZID=America/Los_Angeles:20260620T203000
DTSTAMP:20260419T113630
CREATED:20260415T005514Z
LAST-MODIFIED:20260415T005747Z
UID:10000199-1781976600-1781987400@kikaha.com
SUMMARY:Saturday Practice
DESCRIPTION:
URL:https://kikaha.com/event/saturday-practice/2026-06-20/
LOCATION:Foss Practice Site\, 1930 E D Street\, Tacoma\, WA\, 98421\, United States
CATEGORIES:Practice
GEO:47.2435744;-122.4310179
X-APPLE-STRUCTURED-LOCATION;VALUE=URI;X-ADDRESS=Foss Practice Site 1930 E D Street Tacoma WA 98421 United States;X-APPLE-RADIUS=500;X-TITLE=1930 E D Street:geo:-122.4310179,47.2435744
END:VEVENT
BEGIN:VEVENT
DTSTART;TZID=America/Los_Angeles:20260623T173000
DTEND;TZID=America/Los_Angeles:20260623T203000
DTSTAMP:20260419T113630
CREATED:20260415T005343Z
LAST-MODIFIED:20260415T005830Z
UID:10000102-1782235800-1782246600@kikaha.com
SUMMARY:Weekday Practice
DESCRIPTION:
URL:https://kikaha.com/event/weekday-practice/2026-06-23/
LOCATION:Foss Practice Site\, 1930 E D Street\, Tacoma\, WA\, 98421\, United States
CATEGORIES:Practice
GEO:47.2435744;-122.4310179
X-APPLE-STRUCTURED-LOCATION;VALUE=URI;X-ADDRESS=Foss Practice Site 1930 E D Street Tacoma WA 98421 United States;X-APPLE-RADIUS=500;X-TITLE=1930 E D Street:geo:-122.4310179,47.2435744
END:VEVENT
BEGIN:VEVENT
DTSTART;TZID=America/Los_Angeles:20260625T173000
DTEND;TZID=America/Los_Angeles:20260625T203000
DTSTAMP:20260419T113630
CREATED:20260415T005343Z
LAST-MODIFIED:20260415T005830Z
UID:10000103-1782408600-1782419400@kikaha.com
SUMMARY:Weekday Practice
DESCRIPTION:
URL:https://kikaha.com/event/weekday-practice/2026-06-25/
LOCATION:Foss Practice Site\, 1930 E D Street\, Tacoma\, WA\, 98421\, United States
CATEGORIES:Practice
GEO:47.2435744;-122.4310179
X-APPLE-STRUCTURED-LOCATION;VALUE=URI;X-ADDRESS=Foss Practice Site 1930 E D Street Tacoma WA 98421 United States;X-APPLE-RADIUS=500;X-TITLE=1930 E D Street:geo:-122.4310179,47.2435744
END:VEVENT
BEGIN:VEVENT
DTSTART;TZID=America/Los_Angeles:20260627T080000
DTEND;TZID=America/Los_Angeles:20260627T170000
DTSTAMP:20260419T113630
CREATED:20260413T192836Z
LAST-MODIFIED:20260415T003503Z
UID:10000057-1782547200-1782579600@kikaha.com
SUMMARY:Rooster Rock Race Iron – Hosted by Mountain Home Canoe Club
DESCRIPTION:
URL:https://kikaha.com/event/rooster-rock-race-iron-hosted-by-mountain-home-canoe-club/
LOCATION:Rooster Rock State Park\, Corbett\, OR\, 97019
CATEGORIES:Distance Race,Iron,OC6,Short Course
GEO:45.5317887;-122.2912175
END:VEVENT
BEGIN:VEVENT
DTSTART;TZID=America/Los_Angeles:20260627T173000
DTEND;TZID=America/Los_Angeles:20260627T203000
DTSTAMP:20260419T113630
CREATED:20260415T005514Z
LAST-MODIFIED:20260415T005747Z
UID:10000200-1782581400-1782592200@kikaha.com
SUMMARY:Saturday Practice
DESCRIPTION:
URL:https://kikaha.com/event/saturday-practice/2026-06-27/
LOCATION:Foss Practice Site\, 1930 E D Street\, Tacoma\, WA\, 98421\, United States
CATEGORIES:Practice
GEO:47.2435744;-122.4310179
X-APPLE-STRUCTURED-LOCATION;VALUE=URI;X-ADDRESS=Foss Practice Site 1930 E D Street Tacoma WA 98421 United States;X-APPLE-RADIUS=500;X-TITLE=1930 E D Street:geo:-122.4310179,47.2435744
END:VEVENT
BEGIN:VEVENT
DTSTART;TZID=America/Los_Angeles:20260630T173000
DTEND;TZID=America/Los_Angeles:20260630T203000
DTSTAMP:20260419T113630
CREATED:20260415T005343Z
LAST-MODIFIED:20260415T005830Z
UID:10000104-1782840600-1782851400@kikaha.com
SUMMARY:Weekday Practice
DESCRIPTION:
URL:https://kikaha.com/event/weekday-practice/2026-06-30/
LOCATION:Foss Practice Site\, 1930 E D Street\, Tacoma\, WA\, 98421\, United States
CATEGORIES:Practice
GEO:47.2435744;-122.4310179
X-APPLE-STRUCTURED-LOCATION;VALUE=URI;X-ADDRESS=Foss Practice Site 1930 E D Street Tacoma WA 98421 United States;X-APPLE-RADIUS=500;X-TITLE=1930 E D Street:geo:-122.4310179,47.2435744
END:VEVENT
BEGIN:VEVENT
DTSTART;TZID=America/Los_Angeles:20260702T173000
DTEND;TZID=America/Los_Angeles:20260702T203000
DTSTAMP:20260419T113630
CREATED:20260415T005343Z
LAST-MODIFIED:20260415T005830Z
UID:10000105-1783013400-1783024200@kikaha.com
SUMMARY:Weekday Practice
DESCRIPTION:
URL:https://kikaha.com/event/weekday-practice/2026-07-02/
LOCATION:Foss Practice Site\, 1930 E D Street\, Tacoma\, WA\, 98421\, United States
CATEGORIES:Practice
GEO:47.2435744;-122.4310179
X-APPLE-STRUCTURED-LOCATION;VALUE=URI;X-ADDRESS=Foss Practice Site 1930 E D Street Tacoma WA 98421 United States;X-APPLE-RADIUS=500;X-TITLE=1930 E D Street:geo:-122.4310179,47.2435744
END:VEVENT
BEGIN:VEVENT
DTSTART;TZID=America/Los_Angeles:20260704T173000
DTEND;TZID=America/Los_Angeles:20260704T203000
DTSTAMP:20260419T113630
CREATED:20260415T005514Z
LAST-MODIFIED:20260415T005747Z
UID:10000201-1783186200-1783197000@kikaha.com
SUMMARY:Saturday Practice
DESCRIPTION:
URL:https://kikaha.com/event/saturday-practice/2026-07-04/
LOCATION:Foss Practice Site\, 1930 E D Street\, Tacoma\, WA\, 98421\, United States
CATEGORIES:Practice
GEO:47.2435744;-122.4310179
X-APPLE-STRUCTURED-LOCATION;VALUE=URI;X-ADDRESS=Foss Practice Site 1930 E D Street Tacoma WA 98421 United States;X-APPLE-RADIUS=500;X-TITLE=1930 E D Street:geo:-122.4310179,47.2435744
END:VEVENT
BEGIN:VEVENT
DTSTART;TZID=America/Los_Angeles:20260707T173000
DTEND;TZID=America/Los_Angeles:20260707T203000
DTSTAMP:20260419T113630
CREATED:20260415T005343Z
LAST-MODIFIED:20260415T005830Z
UID:10000106-1783445400-1783456200@kikaha.com
SUMMARY:Weekday Practice
DESCRIPTION:
URL:https://kikaha.com/event/weekday-practice/2026-07-07/
LOCATION:Foss Practice Site\, 1930 E D Street\, Tacoma\, WA\, 98421\, United States
CATEGORIES:Practice
GEO:47.2435744;-122.4310179
X-APPLE-STRUCTURED-LOCATION;VALUE=URI;X-ADDRESS=Foss Practice Site 1930 E D Street Tacoma WA 98421 United States;X-APPLE-RADIUS=500;X-TITLE=1930 E D Street:geo:-122.4310179,47.2435744
END:VEVENT
BEGIN:VEVENT
DTSTART;VALUE=DATE:20260709
DTEND;VALUE=DATE:20260713
DTSTAMP:20260419T113630
CREATED:20260415T004043Z
LAST-MODIFIED:20260415T004043Z
UID:10000078-1783555200-1783900799@kikaha.com
SUMMARY:Paddle Palooza & ARE Sprint Challenge – Hosted by Inland Northwest & Montana Canoe Club
DESCRIPTION:https://www.silverliningmt.org/2026-paddle-palooza-and-are-sprint-challenge
URL:https://kikaha.com/event/paddle-palooza-are-sprint-challenge-hosted-by-inland-northwest-montana-canoe-club/
LOCATION:Polson Fairgrounds\, 320 Regatta Road\, Polson\, MT\, United States
CATEGORIES:Changeout,Distance Race,Iron,OC6,Sprint Race
END:VEVENT
BEGIN:VEVENT
DTSTART;TZID=America/Los_Angeles:20260709T173000
DTEND;TZID=America/Los_Angeles:20260709T203000
DTSTAMP:20260419T113630
CREATED:20260415T005343Z
LAST-MODIFIED:20260415T005830Z
UID:10000107-1783618200-1783629000@kikaha.com
SUMMARY:Weekday Practice
DESCRIPTION:
URL:https://kikaha.com/event/weekday-practice/2026-07-09/
LOCATION:Foss Practice Site\, 1930 E D Street\, Tacoma\, WA\, 98421\, United States
CATEGORIES:Practice
GEO:47.2435744;-122.4310179
X-APPLE-STRUCTURED-LOCATION;VALUE=URI;X-ADDRESS=Foss Practice Site 1930 E D Street Tacoma WA 98421 United States;X-APPLE-RADIUS=500;X-TITLE=1930 E D Street:geo:-122.4310179,47.2435744
END:VEVENT
BEGIN:VEVENT
DTSTART;TZID=America/Los_Angeles:20260711T080000
DTEND;TZID=America/Los_Angeles:20260711T170000
DTSTAMP:20260419T113630
CREATED:20260413T193118Z
LAST-MODIFIED:20260415T004203Z
UID:10000058-1783756800-1783789200@kikaha.com
SUMMARY:Gorge Race – Hosted by Waterwalker
DESCRIPTION:
URL:https://kikaha.com/event/gorge-race-hosted-by-waterwalker/
LOCATION:Skamania County Fairgrounds\, 710 SW Rock Creek Dr\, Stevenson\, WA\, 98648
CATEGORIES:Distance Race,Iron,OC6
GEO:45.6923108;-121.8940865
X-APPLE-STRUCTURED-LOCATION;VALUE=URI;X-ADDRESS=Skamania County Fairgrounds 710 SW Rock Creek Dr Stevenson WA 98648;X-APPLE-RADIUS=500;X-TITLE=710 SW Rock Creek Dr:geo:-121.8940865,45.6923108
END:VEVENT
BEGIN:VEVENT
DTSTART;TZID=America/Los_Angeles:20260711T173000
DTEND;TZID=America/Los_Angeles:20260711T203000
DTSTAMP:20260419T113630
CREATED:20260415T005514Z
LAST-MODIFIED:20260415T005747Z
UID:10000202-1783791000-1783801800@kikaha.com
SUMMARY:Saturday Practice
DESCRIPTION:
URL:https://kikaha.com/event/saturday-practice/2026-07-11/
LOCATION:Foss Practice Site\, 1930 E D Street\, Tacoma\, WA\, 98421\, United States
CATEGORIES:Practice
GEO:47.2435744;-122.4310179
X-APPLE-STRUCTURED-LOCATION;VALUE=URI;X-ADDRESS=Foss Practice Site 1930 E D Street Tacoma WA 98421 United States;X-APPLE-RADIUS=500;X-TITLE=1930 E D Street:geo:-122.4310179,47.2435744
END:VEVENT
END:VCALENDAR