BEGIN:VCALENDAR
VERSION:2.0
PRODID:-//Kikaha O Ke Kai - ECPv6.15.20//NONSGML v1.0//EN
CALSCALE:GREGORIAN
METHOD:PUBLISH
X-WR-CALNAME:Kikaha O Ke Kai
X-ORIGINAL-URL:https://kikaha.com
X-WR-CALDESC:Events for Kikaha O Ke Kai
REFRESH-INTERVAL;VALUE=DURATION:PT1H
X-Robots-Tag:noindex
X-PUBLISHED-TTL:PT1H
BEGIN:VTIMEZONE
TZID:America/Los_Angeles
BEGIN:DAYLIGHT
TZOFFSETFROM:-0800
TZOFFSETTO:-0700
TZNAME:PDT
DTSTART:20250309T100000
END:DAYLIGHT
BEGIN:STANDARD
TZOFFSETFROM:-0700
TZOFFSETTO:-0800
TZNAME:PST
DTSTART:20251102T090000
END:STANDARD
BEGIN:DAYLIGHT
TZOFFSETFROM:-0800
TZOFFSETTO:-0700
TZNAME:PDT
DTSTART:20260308T100000
END:DAYLIGHT
BEGIN:STANDARD
TZOFFSETFROM:-0700
TZOFFSETTO:-0800
TZNAME:PST
DTSTART:20261101T090000
END:STANDARD
BEGIN:DAYLIGHT
TZOFFSETFROM:-0800
TZOFFSETTO:-0700
TZNAME:PDT
DTSTART:20270314T100000
END:DAYLIGHT
BEGIN:STANDARD
TZOFFSETFROM:-0700
TZOFFSETTO:-0800
TZNAME:PST
DTSTART:20271107T090000
END:STANDARD
END:VTIMEZONE
BEGIN:VEVENT
DTSTART;TZID=America/Los_Angeles:20261001T173000
DTEND;TZID=America/Los_Angeles:20261001T203000
DTSTAMP:20260419T234747
CREATED:20260415T005343Z
LAST-MODIFIED:20260415T005830Z
UID:10000131-1790875800-1790886600@kikaha.com
SUMMARY:Weekday Practice
DESCRIPTION:
URL:https://kikaha.com/event/weekday-practice/2026-10-01/
LOCATION:Foss Practice Site\, 1930 E D Street\, Tacoma\, WA\, 98421\, United States
CATEGORIES:Practice
GEO:47.2435744;-122.4310179
X-APPLE-STRUCTURED-LOCATION;VALUE=URI;X-ADDRESS=Foss Practice Site 1930 E D Street Tacoma WA 98421 United States;X-APPLE-RADIUS=500;X-TITLE=1930 E D Street:geo:-122.4310179,47.2435744
END:VEVENT
BEGIN:VEVENT
DTSTART;TZID=America/Los_Angeles:20261017T080000
DTEND;TZID=America/Los_Angeles:20261017T170000
DTSTAMP:20260419T234747
CREATED:20260414T232201Z
LAST-MODIFIED:20260415T004754Z
UID:10000025-1792224000-1792256400@kikaha.com
SUMMARY:Kikaha Ruston Relay
DESCRIPTION:Join us for our annual Chicken Long Race along Tacoma’s Ruston Way waterfront! Grab your teams of 2-8 people to complete Four 2.6-mile laps. \n 
URL:https://kikaha.com/event/chicken-long-race-solo-relay/
LOCATION:Jack Hyde Park\, 1741 N Schuster Pkwy\, Tacoma\, WA\, 98402
CATEGORIES:Small Boat (OC1/OC2/V1) Race
GEO:47.2751239;-122.4614034
X-APPLE-STRUCTURED-LOCATION;VALUE=URI;X-ADDRESS=Jack Hyde Park 1741 N Schuster Pkwy Tacoma WA 98402;X-APPLE-RADIUS=500;X-TITLE=1741 N Schuster Pkwy:geo:-122.4614034,47.2751239
END:VEVENT
END:VCALENDAR