BEGIN:VCALENDAR
VERSION:2.0
PRODID:-//Kikaha O Ke Kai - ECPv6.15.20//NONSGML v1.0//EN
CALSCALE:GREGORIAN
METHOD:PUBLISH
X-WR-CALNAME:Kikaha O Ke Kai
X-ORIGINAL-URL:https://kikaha.com
X-WR-CALDESC:Events for Kikaha O Ke Kai
REFRESH-INTERVAL;VALUE=DURATION:PT1H
X-Robots-Tag:noindex
X-PUBLISHED-TTL:PT1H
BEGIN:VTIMEZONE
TZID:America/Los_Angeles
BEGIN:DAYLIGHT
TZOFFSETFROM:-0800
TZOFFSETTO:-0700
TZNAME:PDT
DTSTART:20230312T100000
END:DAYLIGHT
BEGIN:STANDARD
TZOFFSETFROM:-0700
TZOFFSETTO:-0800
TZNAME:PST
DTSTART:20231105T090000
END:STANDARD
BEGIN:DAYLIGHT
TZOFFSETFROM:-0800
TZOFFSETTO:-0700
TZNAME:PDT
DTSTART:20240310T100000
END:DAYLIGHT
BEGIN:STANDARD
TZOFFSETFROM:-0700
TZOFFSETTO:-0800
TZNAME:PST
DTSTART:20241103T090000
END:STANDARD
BEGIN:DAYLIGHT
TZOFFSETFROM:-0800
TZOFFSETTO:-0700
TZNAME:PDT
DTSTART:20250309T100000
END:DAYLIGHT
BEGIN:STANDARD
TZOFFSETFROM:-0700
TZOFFSETTO:-0800
TZNAME:PST
DTSTART:20251102T090000
END:STANDARD
BEGIN:DAYLIGHT
TZOFFSETFROM:-0800
TZOFFSETTO:-0700
TZNAME:PDT
DTSTART:20260308T100000
END:DAYLIGHT
BEGIN:STANDARD
TZOFFSETFROM:-0700
TZOFFSETTO:-0800
TZNAME:PST
DTSTART:20261101T090000
END:STANDARD
END:VTIMEZONE
BEGIN:VEVENT
DTSTART;TZID=America/Los_Angeles:20250810T120000
DTEND;TZID=America/Los_Angeles:20250810T160000
DTSTAMP:20260419T201743
CREATED:20250128T044801Z
LAST-MODIFIED:20250805T032733Z
UID:10000067-1754827200-1754841600@kikaha.com
SUMMARY:E Komo Mai - Hawaiian Cultural Event Presented by Kikaha and Tacoma Creates
DESCRIPTION:E Komo Mai (Join Us!)\nWe’re stoked to announce that E Komo Mai is back for its 2nd annual event on August 10 at Owen Beach! Last year\, over 700 people joined us to celebrate Hawaiian culture\, and we can’t wait to do it all over again. This year’s event will be packed with live music\, hula performances\, storytelling\, outrigger canoe demonstrations\, hands-on workshops\, and\, of course\, amazing Hawaiian food. Whether you paddled with us last year or this will be your first time\, we welcome you to come to experience the spirit of aloha with us. See you on August 10! 🌺🤙
URL:https://kikaha.com/event/e-komo-mai-hawaiian-cultural-event-presented-by-kikaha-and-tacoma-creates-2025/
LOCATION:Owens Beach\, 5605 Owen Beach Rd\, Tacoma\, WA\, 98407
CATEGORIES:Other (Non-racing)
ATTACH;FMTTYPE=image/jpeg:https://kikaha.com/wp-content/uploads/2025/01/IMG_3600-scaled.jpg
END:VEVENT
BEGIN:VEVENT
DTSTART;TZID=America/Los_Angeles:20250808T080000
DTEND;TZID=America/Los_Angeles:20250808T170000
DTSTAMP:20260419T201743
CREATED:20260414T194805Z
LAST-MODIFIED:20260415T004604Z
UID:10000062-1754640000-1754672400@kikaha.com
SUMMARY:Pacific Northwest Challenge – Hosted by Sand Point Paddling Club & Kīkaha O Ke Kai
DESCRIPTION:
URL:https://kikaha.com/event/pacific-northwest-challenge-hosted-by-sand-point-paddling-club-kikaha-o-ke-kai/
LOCATION:Magnuson Park\, 7861 62nd Ave NE\, Seattle\, WA\, 98115
CATEGORIES:Changeout,Distance Race,Iron,OC6
GEO:47.6887205;-122.2648946
X-APPLE-STRUCTURED-LOCATION;VALUE=URI;X-ADDRESS=Magnuson Park 7861 62nd Ave NE Seattle WA 98115;X-APPLE-RADIUS=500;X-TITLE=7861 62nd Ave NE:geo:-122.2648946,47.6887205
END:VEVENT
BEGIN:VEVENT
DTSTART;TZID=America/Los_Angeles:20250518T080000
DTEND;TZID=America/Los_Angeles:20250518T100000
DTSTAMP:20260419T201743
CREATED:20250505T195751Z
LAST-MODIFIED:20250505T195751Z
UID:10000070-1747555200-1747562400@kikaha.com
SUMMARY:Blessing of our Kai Wa'a Hydra Twins - Kai Koa and Kaimana
DESCRIPTION:Aloha Kikaha Ohana\,\nIt’s a historic time for Kikaha\, and we have added two new Hydra Kai Wa’a canoes to our fleet.\nWe invite you and your ohana to our traditional Hawaiian blessing on May 18th.\nPlease show up for preparations at 8 am.\nCeremony to start at 9 am.
URL:https://kikaha.com/event/blessing-of-our-kai-waa-hydra-twins-kai-koa-and-kaimana/
LOCATION:Foss Practice Site\, 1930 E D Street\, Tacoma\, WA\, 98421\, United States
CATEGORIES:OC6,Other (Non-racing)
ATTACH;FMTTYPE=image/jpeg:https://kikaha.com/wp-content/uploads/2025/05/Twins-Blessing.jpg
GEO:47.2435744;-122.4310179
X-APPLE-STRUCTURED-LOCATION;VALUE=URI;X-ADDRESS=Foss Practice Site 1930 E D Street Tacoma WA 98421 United States;X-APPLE-RADIUS=500;X-TITLE=1930 E D Street:geo:-122.4310179,47.2435744
END:VEVENT
BEGIN:VEVENT
DTSTART;TZID=America/Los_Angeles:20250408T040000
DTEND;TZID=America/Los_Angeles:20250408T170000
DTSTAMP:20260419T201743
CREATED:20250203T183432Z
LAST-MODIFIED:20250203T183448Z
UID:10000069-1744084800-1744131600@kikaha.com
SUMMARY:Keiki Practice Starts!
DESCRIPTION:Aloha ʻOhana\, \nKeiki practice is kicking off on Tuesday\, April 8! Practices will be held every Tuesday and Thursday at 4 PM. \nWe’re excited to get back on the water and look forward to seeing all our keiki paddlers ready to go. Please arrive on time and prepared for practice. \nLet’s have a great season! \nImua!
URL:https://kikaha.com/event/2025-keiki-practice-starts/
LOCATION:Foss Practice Site\, 1930 E D Street\, Tacoma\, WA\, 98421\, United States
CATEGORIES:Practice
GEO:47.2435744;-122.4310179
X-APPLE-STRUCTURED-LOCATION;VALUE=URI;X-ADDRESS=Foss Practice Site 1930 E D Street Tacoma WA 98421 United States;X-APPLE-RADIUS=500;X-TITLE=1930 E D Street:geo:-122.4310179,47.2435744
END:VEVENT
BEGIN:VEVENT
DTSTART;TZID=America/Los_Angeles:20250405T090000
DTEND;TZID=America/Los_Angeles:20250405T123000
DTSTAMP:20260419T201743
CREATED:20250203T183002Z
LAST-MODIFIED:20250401T044536Z
UID:10000068-1743843600-1743856200@kikaha.com
SUMMARY:Huli Drill
DESCRIPTION:Our Huli Drill is scheduled for Saturday\, April 5\, at the Mt. Tahoma High School pool. This is a mandatory safety training\, and all active members are expected to attend. \nMore details will be shared as we get closer\, but please mark your calendars and plan accordingly. This is an essential part of our safety preparedness\, so let’s make sure we’re all ready.
URL:https://kikaha.com/event/2025-huli-drill/
LOCATION:Mount Tahoma High School Pool\, 4634 S 74th Street\, Tacoma\, WA\, 98404\, United States
CATEGORIES:Huli Drill,Other (Non-racing)
END:VEVENT
BEGIN:VEVENT
DTSTART;TZID=America/Los_Angeles:20250329T080000
DTEND;TZID=America/Los_Angeles:20250329T170000
DTSTAMP:20260419T201743
CREATED:20251018T195746Z
LAST-MODIFIED:20241018T195543Z
UID:10000050-1743235200-1743267600@kikaha.com
SUMMARY:2025 Winter Series #7 – Sandpoint PNW Championship
DESCRIPTION:
URL:https://kikaha.com/event/2025-winter-series-7-sandpoint-pnw-championship/
LOCATION:Magnuson Park\, 7861 62nd Ave NE\, Seattle\, WA\, 98115
CATEGORIES:Small Boat (OC1/OC2/V1) Race
GEO:47.6887205;-122.2648946
X-APPLE-STRUCTURED-LOCATION;VALUE=URI;X-ADDRESS=Magnuson Park 7861 62nd Ave NE Seattle WA 98115;X-APPLE-RADIUS=500;X-TITLE=7861 62nd Ave NE:geo:-122.2648946,47.6887205
END:VEVENT
BEGIN:VEVENT
DTSTART;TZID=America/Los_Angeles:20250315T080000
DTEND;TZID=America/Los_Angeles:20250315T170000
DTSTAMP:20260419T201743
CREATED:20241018T190206Z
LAST-MODIFIED:20241018T190206Z
UID:10000049-1742025600-1742058000@kikaha.com
SUMMARY:2025 Winter Series #6 – Kai Ikaika
DESCRIPTION:
URL:https://kikaha.com/event/2025-winter-series-6-kai-ikaika/
LOCATION:Portland Boathouse Dock\, 1515 SE Water Ave\, Portland\, OR\, 97214\, United States
CATEGORIES:Small Boat (OC1/OC2/V1) Race
END:VEVENT
BEGIN:VEVENT
DTSTART;TZID=America/Los_Angeles:20250309T113000
DTEND;TZID=America/Los_Angeles:20250309T124500
DTSTAMP:20260419T201743
CREATED:20250128T044156Z
LAST-MODIFIED:20250128T044156Z
UID:10000066-1741519800-1741524300@kikaha.com
SUMMARY:Annual General Meeting- All Members to Attend
DESCRIPTION:It’s time for our Annual Meeting!\nWe’ll provide an overview of our club’s activities and financial status as we celebrate 2024 and look ahead to 2025.\nCome share lunch (potluck style with us as we unveil our two new wa’a (Da twins) updates.\nBring your favorite”ono” dish to share and enjoy this potluck lunch meeting with your Kikaha ‘ohana.\nWe look forward to seeing you there!
URL:https://kikaha.com/event/annual-general-meeting-all-members-to-attend/
LOCATION:Teamsters Hall\, 220 S 27th Street\, Tacoma\, WA\, 98402\, United States
CATEGORIES:Other (Non-racing)
ATTACH;FMTTYPE=image/jpeg:https://kikaha.com/wp-content/uploads/2025/01/qtq80-UOzdH5.jpeg
END:VEVENT
BEGIN:VEVENT
DTSTART;TZID=America/Los_Angeles:20250309T090000
DTEND;TZID=America/Los_Angeles:20250309T113000
DTSTAMP:20260419T201743
CREATED:20250113T213251Z
LAST-MODIFIED:20250306T220358Z
UID:10000064-1741510800-1741519800@kikaha.com
SUMMARY:Rigging Day 2025
DESCRIPTION:It’s time to get the boats rigged for spring! Please come help and kokua to get the boats ready for the racing season. \nPlease note: Rigging Day will be followed immediately by our Annual Meeting
URL:https://kikaha.com/event/rigging-day-2025/
LOCATION:Foss Practice Site\, 1930 E D Street\, Tacoma\, WA\, 98421\, United States
CATEGORIES:Other (Non-racing)
ATTACH;FMTTYPE=image/jpeg:https://kikaha.com/wp-content/uploads/2023/01/K07A7526-scaled.jpg
GEO:47.2435744;-122.4310179
X-APPLE-STRUCTURED-LOCATION;VALUE=URI;X-ADDRESS=Foss Practice Site 1930 E D Street Tacoma WA 98421 United States;X-APPLE-RADIUS=500;X-TITLE=1930 E D Street:geo:-122.4310179,47.2435744
END:VEVENT
BEGIN:VEVENT
DTSTART;TZID=America/Los_Angeles:20250308T080000
DTEND;TZID=America/Los_Angeles:20250308T170000
DTSTAMP:20260419T201743
CREATED:20241018T185650Z
LAST-MODIFIED:20241018T185650Z
UID:10000048-1741420800-1741453200@kikaha.com
SUMMARY:2025 Winter Series #5 – False Creek
DESCRIPTION:
URL:https://kikaha.com/event/2025-winter-series-5-false-creek/
LOCATION:Burrard Civic Marina\, 1655 Whyte Ave\, Vancouver\, BC\, V6J 1A9\, Canada
CATEGORIES:Small Boat (OC1/OC2/V1) Race
END:VEVENT
BEGIN:VEVENT
DTSTART;TZID=America/Los_Angeles:20250222T080000
DTEND;TZID=America/Los_Angeles:20250222T170000
DTSTAMP:20260419T201743
CREATED:20241018T185305Z
LAST-MODIFIED:20241018T185305Z
UID:10000047-1740211200-1740243600@kikaha.com
SUMMARY:2025 Winter Series #4 – Bellingham
DESCRIPTION:
URL:https://kikaha.com/event/2025-winter-series-4-bellingham/
LOCATION:Marine Park\, 100 Harris Ave\, Bellingham\, 98225\, United States
CATEGORIES:Small Boat (OC1/OC2/V1) Race
END:VEVENT
BEGIN:VEVENT
DTSTART;TZID=America/Los_Angeles:20250215T110000
DTEND;TZID=America/Los_Angeles:20250215T180000
DTSTAMP:20260419T201743
CREATED:20250128T042938Z
LAST-MODIFIED:20250128T042938Z
UID:10000065-1739617200-1739642400@kikaha.com
SUMMARY:Asia Pacific New Year Celebration
DESCRIPTION:This year at the Tacoma Dome\, Kikaha will have a booth at the Asia Pacific New Year Celebration! Come learn all about Kikaha\, our community\, and the sport of Outrigger Canoe Paddling!
URL:https://kikaha.com/event/asia-pacific-new-year-celebration/
LOCATION:Tacoma dome\, 2727 E D St\, Tacoma\, WA\, 98421\, United States
CATEGORIES:Other (Non-racing)
ATTACH;FMTTYPE=image/avif:https://kikaha.com/wp-content/uploads/2025/01/4ef8e1_71a7301d05db4e7982d1e1592fa751admv2.avif
END:VEVENT
BEGIN:VEVENT
DTSTART;TZID=America/Los_Angeles:20250208T080000
DTEND;TZID=America/Los_Angeles:20250208T170000
DTSTAMP:20260419T201743
CREATED:20241018T184944Z
LAST-MODIFIED:20250109T023232Z
UID:10000046-1739001600-1739034000@kikaha.com
SUMMARY:2025 Winter Series #3 – Mountain Home
DESCRIPTION:
URL:https://kikaha.com/event/2025-winter-series-3-mountain-home/
LOCATION:Kalama\, 266-272 N Hendrickson Dr\, Kalama\, WA\, 98625\, United States
CATEGORIES:Small Boat (OC1/OC2/V1) Race
END:VEVENT
BEGIN:VEVENT
DTSTART;TZID=America/Los_Angeles:20250125T080000
DTEND;TZID=America/Los_Angeles:20250125T170000
DTSTAMP:20260419T201743
CREATED:20241018T184715Z
LAST-MODIFIED:20241018T184715Z
UID:10000045-1737792000-1737824400@kikaha.com
SUMMARY:2025 Winter Series #2 – Jericho
DESCRIPTION:
URL:https://kikaha.com/event/2025-winter-series-2-jericho/
LOCATION:Jericho Sailing Centre\, 1300 Discovery St\, Vancouver\, BC\, V6R4L9\, Canada
CATEGORIES:Small Boat (OC1/OC2/V1) Race
END:VEVENT
BEGIN:VEVENT
DTSTART;TZID=America/Los_Angeles:20250111T080000
DTEND;TZID=America/Los_Angeles:20250111T130000
DTSTAMP:20260419T201743
CREATED:20241018T014130Z
LAST-MODIFIED:20241018T014130Z
UID:10000044-1736582400-1736600400@kikaha.com
SUMMARY:2025 Winter Series #1 - Wasabi
DESCRIPTION:
URL:https://kikaha.com/event/2025-winter-series-1-wasabi/
LOCATION:Fred’s Marina\, 12800 NW Marina Way\, Portland\, OR\, 97231\, United States
CATEGORIES:Small Boat (OC1/OC2/V1) Race
END:VEVENT
BEGIN:VEVENT
DTSTART;TZID=America/Los_Angeles:20241026T090000
DTEND;TZID=America/Los_Angeles:20241026T120000
DTSTAMP:20260419T201743
CREATED:20241004T212334Z
LAST-MODIFIED:20241004T212334Z
UID:10000043-1729933200-1729944000@kikaha.com
SUMMARY:Site Clean Up & Preparation for Winter
DESCRIPTION:
URL:https://kikaha.com/event/site-clean-up-preparation-for-winter/
LOCATION:Foss Practice Site\, 1930 E D Street\, Tacoma\, WA\, 98421\, United States
GEO:47.2435744;-122.4310179
X-APPLE-STRUCTURED-LOCATION;VALUE=URI;X-ADDRESS=Foss Practice Site 1930 E D Street Tacoma WA 98421 United States;X-APPLE-RADIUS=500;X-TITLE=1930 E D Street:geo:-122.4310179,47.2435744
END:VEVENT
BEGIN:VEVENT
DTSTART;TZID=America/Los_Angeles:20241019T080000
DTEND;TZID=America/Los_Angeles:20241019T170000
DTSTAMP:20260419T201743
CREATED:20241018T195329Z
LAST-MODIFIED:20241018T195329Z
UID:10000063-1729324800-1729357200@kikaha.com
SUMMARY:Chicken Long Race
DESCRIPTION:October may bring the chill of fall to Tacoma\, but that doesn’t stop Pacific Northwest paddlers from entering the Chicken Long Race Solo/Relay. They know that even if they don’t win their division\, which comes with a rubber chicken for a prize\, they’ll have a warm bowl of Auntie Bren’s famous chicken long rice soup. \nThis year\, Kīkaha O Ke Kai’s annual event will be held on Oct. 19. Paddlers typically race in pairs\, but some choose to complete the entire 10-mile race solo. In 2023\, there were nearly 130 paddlers. The entry fee is $25 per paddler. Register here. \nGrab your team of paddlers to race 4 laps (2 laps for short course)\, 2.6 miles per lap. Categories include OC-1\, OC-2\, SUP\, Kayak\, Surfski\, and V-1.
URL:https://kikaha.com/event/chicken-long-race/
LOCATION:Jack Hyde Park\, 1741 N Schuster Pkwy\, Tacoma\, WA\, 98402
CATEGORIES:Short Course,Small Boat (OC1/OC2/V1) Race
GEO:47.2751239;-122.4614034
X-APPLE-STRUCTURED-LOCATION;VALUE=URI;X-ADDRESS=Jack Hyde Park 1741 N Schuster Pkwy Tacoma WA 98402;X-APPLE-RADIUS=500;X-TITLE=1741 N Schuster Pkwy:geo:-122.4614034,47.2751239
END:VEVENT
BEGIN:VEVENT
DTSTART;TZID=America/Los_Angeles:20240929T120000
DTEND;TZID=America/Los_Angeles:20240929T160000
DTSTAMP:20260419T201743
CREATED:20240816T192035Z
LAST-MODIFIED:20240924T021355Z
UID:10000042-1727611200-1727625600@kikaha.com
SUMMARY:E Komo Mai - Hawaiian Cultural Event Presented by Kikaha and Tacoma Creates
DESCRIPTION:
URL:https://kikaha.com/event/e-komo-mai-hawaiian-cultural-event-presented-by-kikaha-and-tacoma-creates/
LOCATION:Owens Beach\, 5605 Owen Beach Rd\, Tacoma\, WA\, 98407
END:VEVENT
BEGIN:VEVENT
DTSTART;VALUE=DATE:20240824
DTEND;VALUE=DATE:20240825
DTSTAMP:20260419T201743
CREATED:20240130T001637Z
LAST-MODIFIED:20240130T001637Z
UID:10000038-1724457600-1724543999@kikaha.com
SUMMARY:Bellingham Bay Classic (Distance)
DESCRIPTION:
URL:https://kikaha.com/event/bellingham-bay-classic-distance/
LOCATION:Boulevard Park\, 470 Bayview Dr\, Bellingham\, WA\, 98225
GEO:48.7312585;-122.5030982
X-APPLE-STRUCTURED-LOCATION;VALUE=URI;X-ADDRESS=Boulevard Park 470 Bayview Dr Bellingham WA 98225;X-APPLE-RADIUS=500;X-TITLE=470 Bayview Dr:geo:-122.5030982,48.7312585
END:VEVENT
BEGIN:VEVENT
DTSTART;VALUE=DATE:20240810
DTEND;VALUE=DATE:20240811
DTSTAMP:20260419T201743
CREATED:20240130T001539Z
LAST-MODIFIED:20240130T001539Z
UID:10000037-1723248000-1723334399@kikaha.com
SUMMARY:PNW Outrigger Canoe Challenge (Distance)
DESCRIPTION:A variety of distances and crew options\, Kikaha and Sand Point Outrigger club host this challenge for teams looking to cap off their season or tune up before travelling to destination races like Queen Liliuokalani or Molokai Ho’e. Watch for more information on how you can help
URL:https://kikaha.com/event/pnw-outrigger-canoe-challenge-distance/
LOCATION:Magnuson Park\, 7861 62nd Ave NE\, Seattle\, WA\, 98115
GEO:47.6887205;-122.2648946
X-APPLE-STRUCTURED-LOCATION;VALUE=URI;X-ADDRESS=Magnuson Park 7861 62nd Ave NE Seattle WA 98115;X-APPLE-RADIUS=500;X-TITLE=7861 62nd Ave NE:geo:-122.2648946,47.6887205
END:VEVENT
BEGIN:VEVENT
DTSTART;VALUE=DATE:20240803
DTEND;VALUE=DATE:20240804
DTSTAMP:20260419T201743
CREATED:20240130T001204Z
LAST-MODIFIED:20240130T001215Z
UID:10000036-1722643200-1722729599@kikaha.com
SUMMARY:Kalama Heritage Festival (Distance)
DESCRIPTION:More info coming soon
URL:https://kikaha.com/event/kalama-heritage-festival-distance/
LOCATION:Kalama\, 266-272 N Hendrickson Dr\, Kalama\, WA\, 98625\, United States
END:VEVENT
BEGIN:VEVENT
DTSTART;VALUE=DATE:20240727
DTEND;VALUE=DATE:20240728
DTSTAMP:20260419T201743
CREATED:20240130T000843Z
LAST-MODIFIED:20240130T000857Z
UID:10000035-1722038400-1722124799@kikaha.com
SUMMARY:Da Grind (Distance)
DESCRIPTION:More info coming soon
URL:https://kikaha.com/event/da-grind-distance/
LOCATION:Alki Beach\, 2701 Alki Ave SW\, Seattle\, WA\, 98116
GEO:47.5796251;-122.4095955
X-APPLE-STRUCTURED-LOCATION;VALUE=URI;X-ADDRESS=Alki Beach 2701 Alki Ave SW Seattle WA 98116;X-APPLE-RADIUS=500;X-TITLE=2701 Alki Ave SW:geo:-122.4095955,47.5796251
END:VEVENT
BEGIN:VEVENT
DTSTART;VALUE=DATE:20240706
DTEND;VALUE=DATE:20240707
DTSTAMP:20260419T201743
CREATED:20240130T000714Z
LAST-MODIFIED:20240130T000714Z
UID:10000034-1720224000-1720310399@kikaha.com
SUMMARY:The Gorge Race
DESCRIPTION:Head down to the Columbia River Gorge for a weekend full of fun and paddling! Camping usually starts Thursday\, with showers on site at Skamania County Fairgrounds. Talk to your coaches for more info on crews!
URL:https://kikaha.com/event/the-gorge-race-2/
LOCATION:Skamania County Fairgrounds\, 710 SW Rock Creek Dr\, Stevenson\, WA\, 98648
GEO:45.6923108;-121.8940865
X-APPLE-STRUCTURED-LOCATION;VALUE=URI;X-ADDRESS=Skamania County Fairgrounds 710 SW Rock Creek Dr Stevenson WA 98648;X-APPLE-RADIUS=500;X-TITLE=710 SW Rock Creek Dr:geo:-121.8940865,45.6923108
END:VEVENT
BEGIN:VEVENT
DTSTART;VALUE=DATE:20240629
DTEND;VALUE=DATE:20240630
DTSTAMP:20260419T201743
CREATED:20240130T000517Z
LAST-MODIFIED:20240130T000517Z
UID:10000033-1719619200-1719705599@kikaha.com
SUMMARY:Rooster Rock Race (Distance)
DESCRIPTION:More info coming soon
URL:https://kikaha.com/event/rooster-rock-race-distance/
LOCATION:Rooster Rock State Park\, Corbett\, OR\, 97019
GEO:45.5317887;-122.2912175
END:VEVENT
BEGIN:VEVENT
DTSTART;TZID=America/Los_Angeles:20240608T080000
DTEND;TZID=America/Los_Angeles:20240608T170000
DTSTAMP:20260419T201743
CREATED:20240130T000421Z
LAST-MODIFIED:20240130T000421Z
UID:10000032-1717833600-1717866000@kikaha.com
SUMMARY:Hui Wa'a o Puget Sound Sprints (Everett)
DESCRIPTION:More info coming soon
URL:https://kikaha.com/event/hui-waa-o-puget-sound-sprints-everett/
LOCATION:Thornton Sullivan Park\, 11405 Silver Lake Rd\, Everett\, WA\, 98208
GEO:47.8961179;-122.2134334
X-APPLE-STRUCTURED-LOCATION;VALUE=URI;X-ADDRESS=Thornton Sullivan Park 11405 Silver Lake Rd Everett WA 98208;X-APPLE-RADIUS=500;X-TITLE=11405 Silver Lake Rd:geo:-122.2134334,47.8961179
END:VEVENT
BEGIN:VEVENT
DTSTART;VALUE=DATE:20240601
DTEND;VALUE=DATE:20240602
DTSTAMP:20260419T201744
CREATED:20240130T000204Z
LAST-MODIFIED:20240130T000204Z
UID:10000031-1717200000-1717286399@kikaha.com
SUMMARY:Hui Hei Hei Wa'a Sprints (Silverdale)
DESCRIPTION:More info coming soon
URL:https://kikaha.com/event/hui-hei-hei-waa-sprints-silverdale/
LOCATION:Silverdale Waterfront Park\, 3337 NW Byron St\, Silverdale\, WA\, 98383
GEO:47.6441204;-122.6944622
X-APPLE-STRUCTURED-LOCATION;VALUE=URI;X-ADDRESS=Silverdale Waterfront Park 3337 NW Byron St Silverdale WA 98383;X-APPLE-RADIUS=500;X-TITLE=3337 NW Byron St:geo:-122.6944622,47.6441204
END:VEVENT
BEGIN:VEVENT
DTSTART;TZID=America/Los_Angeles:20240525T080000
DTEND;TZID=America/Los_Angeles:20240525T170000
DTSTAMP:20260419T201744
CREATED:20240130T000048Z
LAST-MODIFIED:20240130T000048Z
UID:10000030-1716624000-1716656400@kikaha.com
SUMMARY:Na Po'e o Ke Kai Sprints - Greenlake
DESCRIPTION:More info coming soon
URL:https://kikaha.com/event/na-poe-o-ke-kai-sprints-greenlake/
LOCATION:Greenlake Park\, 5900 West Green Lake Way N\, Seattle\, WA\, 98103
GEO:47.6716959;-122.3430429
X-APPLE-STRUCTURED-LOCATION;VALUE=URI;X-ADDRESS=Greenlake Park 5900 West Green Lake Way N Seattle WA 98103;X-APPLE-RADIUS=500;X-TITLE=5900 West Green Lake Way N:geo:-122.3430429,47.6716959
END:VEVENT
BEGIN:VEVENT
DTSTART;VALUE=DATE:20240511
DTEND;VALUE=DATE:20240512
DTSTAMP:20260419T201744
CREATED:20240129T235838Z
LAST-MODIFIED:20240430T030635Z
UID:10000029-1715385600-1715471999@kikaha.com
SUMMARY:Manu K Baker Memorial Sprint Regatta
DESCRIPTION:Join Kikaha as we host our annual Sprint Regatta\, in memory of Uncle Manu K Baker! \nWe will have Matahina canoes provided by ARE Outrigger for clubs and Mako V1 canoes for individuals who want to use the official wa’a of the 2024 World Sprints! \nIf you are a club who is interested in participating\, please reach out to kikaha.info@gmail.com for information on how to register!
URL:https://kikaha.com/event/manu-k-baker-memorial-sprint-regatta/
LOCATION:Spanaway Lake\, 14905 Bresemann Blvd S\, Spanaway\, WA\, 98387
GEO:47.1171488;-122.4403211
X-APPLE-STRUCTURED-LOCATION;VALUE=URI;X-ADDRESS=Spanaway Lake 14905 Bresemann Blvd S Spanaway WA 98387;X-APPLE-RADIUS=500;X-TITLE=14905 Bresemann Blvd S:geo:-122.4403211,47.1171488
END:VEVENT
BEGIN:VEVENT
DTSTART;TZID=America/Los_Angeles:20240427T080000
DTEND;TZID=America/Los_Angeles:20240427T170000
DTSTAMP:20260419T201744
CREATED:20240129T235654Z
LAST-MODIFIED:20240129T235654Z
UID:10000028-1714204800-1714237200@kikaha.com
SUMMARY:Race Around the Island (RATI) - Distance
DESCRIPTION:More info coming soon
URL:https://kikaha.com/event/race-around-the-island-rati-distance/
LOCATION:WA
END:VEVENT
BEGIN:VEVENT
DTSTART;VALUE=DATE:20240420
DTEND;VALUE=DATE:20240421
DTSTAMP:20260419T201744
CREATED:20240129T235529Z
LAST-MODIFIED:20240129T235529Z
UID:10000027-1713571200-1713657599@kikaha.com
SUMMARY:Rusty Iron Distance
DESCRIPTION:More info coming soon
URL:https://kikaha.com/event/rusty-iron-distance-2/
LOCATION:Frenchman’s Bar Regional Park\, 9612 NW Lower River Rd\, Vancouver\, WA\, 98660\, United States
END:VEVENT
END:VCALENDAR