BEGIN:VCALENDAR
VERSION:2.0
PRODID:-//Kikaha O Ke Kai - ECPv6.15.20//NONSGML v1.0//EN
CALSCALE:GREGORIAN
METHOD:PUBLISH
X-WR-CALNAME:Kikaha O Ke Kai
X-ORIGINAL-URL:https://kikaha.com
X-WR-CALDESC:Events for Kikaha O Ke Kai
REFRESH-INTERVAL;VALUE=DURATION:PT1H
X-Robots-Tag:noindex
X-PUBLISHED-TTL:PT1H
BEGIN:VTIMEZONE
TZID:America/Los_Angeles
BEGIN:DAYLIGHT
TZOFFSETFROM:-0800
TZOFFSETTO:-0700
TZNAME:PDT
DTSTART:20250309T100000
END:DAYLIGHT
BEGIN:STANDARD
TZOFFSETFROM:-0700
TZOFFSETTO:-0800
TZNAME:PST
DTSTART:20251102T090000
END:STANDARD
BEGIN:DAYLIGHT
TZOFFSETFROM:-0800
TZOFFSETTO:-0700
TZNAME:PDT
DTSTART:20260308T100000
END:DAYLIGHT
BEGIN:STANDARD
TZOFFSETFROM:-0700
TZOFFSETTO:-0800
TZNAME:PST
DTSTART:20261101T090000
END:STANDARD
BEGIN:DAYLIGHT
TZOFFSETFROM:-0800
TZOFFSETTO:-0700
TZNAME:PDT
DTSTART:20270314T100000
END:DAYLIGHT
BEGIN:STANDARD
TZOFFSETFROM:-0700
TZOFFSETTO:-0800
TZNAME:PST
DTSTART:20271107T090000
END:STANDARD
END:VTIMEZONE
BEGIN:VEVENT
DTSTART;TZID=America/Los_Angeles:20260723T173000
DTEND;TZID=America/Los_Angeles:20260723T203000
DTSTAMP:20260419T183337
CREATED:20260415T005343Z
LAST-MODIFIED:20260415T005830Z
UID:10000111-1784827800-1784838600@kikaha.com
SUMMARY:Weekday Practice
DESCRIPTION:
URL:https://kikaha.com/event/weekday-practice/2026-07-23/
LOCATION:Foss Practice Site\, 1930 E D Street\, Tacoma\, WA\, 98421\, United States
CATEGORIES:Practice
GEO:47.2435744;-122.4310179
X-APPLE-STRUCTURED-LOCATION;VALUE=URI;X-ADDRESS=Foss Practice Site 1930 E D Street Tacoma WA 98421 United States;X-APPLE-RADIUS=500;X-TITLE=1930 E D Street:geo:-122.4310179,47.2435744
END:VEVENT
BEGIN:VEVENT
DTSTART;TZID=America/Los_Angeles:20260725T173000
DTEND;TZID=America/Los_Angeles:20260725T203000
DTSTAMP:20260419T183337
CREATED:20260415T005514Z
LAST-MODIFIED:20260415T005747Z
UID:10000204-1785000600-1785011400@kikaha.com
SUMMARY:Saturday Practice
DESCRIPTION:
URL:https://kikaha.com/event/saturday-practice/2026-07-25/
LOCATION:Foss Practice Site\, 1930 E D Street\, Tacoma\, WA\, 98421\, United States
CATEGORIES:Practice
GEO:47.2435744;-122.4310179
X-APPLE-STRUCTURED-LOCATION;VALUE=URI;X-ADDRESS=Foss Practice Site 1930 E D Street Tacoma WA 98421 United States;X-APPLE-RADIUS=500;X-TITLE=1930 E D Street:geo:-122.4310179,47.2435744
END:VEVENT
BEGIN:VEVENT
DTSTART;TZID=America/Los_Angeles:20260728T173000
DTEND;TZID=America/Los_Angeles:20260728T203000
DTSTAMP:20260419T183337
CREATED:20260415T005343Z
LAST-MODIFIED:20260415T005830Z
UID:10000112-1785259800-1785270600@kikaha.com
SUMMARY:Weekday Practice
DESCRIPTION:
URL:https://kikaha.com/event/weekday-practice/2026-07-28/
LOCATION:Foss Practice Site\, 1930 E D Street\, Tacoma\, WA\, 98421\, United States
CATEGORIES:Practice
GEO:47.2435744;-122.4310179
X-APPLE-STRUCTURED-LOCATION;VALUE=URI;X-ADDRESS=Foss Practice Site 1930 E D Street Tacoma WA 98421 United States;X-APPLE-RADIUS=500;X-TITLE=1930 E D Street:geo:-122.4310179,47.2435744
END:VEVENT
BEGIN:VEVENT
DTSTART;TZID=America/Los_Angeles:20260730T173000
DTEND;TZID=America/Los_Angeles:20260730T203000
DTSTAMP:20260419T183337
CREATED:20260415T005343Z
LAST-MODIFIED:20260415T005830Z
UID:10000113-1785432600-1785443400@kikaha.com
SUMMARY:Weekday Practice
DESCRIPTION:
URL:https://kikaha.com/event/weekday-practice/2026-07-30/
LOCATION:Foss Practice Site\, 1930 E D Street\, Tacoma\, WA\, 98421\, United States
CATEGORIES:Practice
GEO:47.2435744;-122.4310179
X-APPLE-STRUCTURED-LOCATION;VALUE=URI;X-ADDRESS=Foss Practice Site 1930 E D Street Tacoma WA 98421 United States;X-APPLE-RADIUS=500;X-TITLE=1930 E D Street:geo:-122.4310179,47.2435744
END:VEVENT
BEGIN:VEVENT
DTSTART;TZID=America/Los_Angeles:20260801T080000
DTEND;TZID=America/Los_Angeles:20260801T170000
DTSTAMP:20260419T183337
CREATED:20260415T004517Z
LAST-MODIFIED:20260415T004517Z
UID:10000079-1785571200-1785603600@kikaha.com
SUMMARY:BBOP/Autumn Rose Iron
DESCRIPTION:
URL:https://kikaha.com/event/bbop-autumn-rose-iron/
LOCATION:WA
CATEGORIES:Distance Race,Iron,OC6
END:VEVENT
BEGIN:VEVENT
DTSTART;TZID=America/Los_Angeles:20260801T173000
DTEND;TZID=America/Los_Angeles:20260801T203000
DTSTAMP:20260419T183337
CREATED:20260415T005514Z
LAST-MODIFIED:20260415T005747Z
UID:10000205-1785605400-1785616200@kikaha.com
SUMMARY:Saturday Practice
DESCRIPTION:
URL:https://kikaha.com/event/saturday-practice/2026-08-01/
LOCATION:Foss Practice Site\, 1930 E D Street\, Tacoma\, WA\, 98421\, United States
CATEGORIES:Practice
GEO:47.2435744;-122.4310179
X-APPLE-STRUCTURED-LOCATION;VALUE=URI;X-ADDRESS=Foss Practice Site 1930 E D Street Tacoma WA 98421 United States;X-APPLE-RADIUS=500;X-TITLE=1930 E D Street:geo:-122.4310179,47.2435744
END:VEVENT
BEGIN:VEVENT
DTSTART;TZID=America/Los_Angeles:20260804T173000
DTEND;TZID=America/Los_Angeles:20260804T203000
DTSTAMP:20260419T183337
CREATED:20260415T005343Z
LAST-MODIFIED:20260415T005830Z
UID:10000114-1785864600-1785875400@kikaha.com
SUMMARY:Weekday Practice
DESCRIPTION:
URL:https://kikaha.com/event/weekday-practice/2026-08-04/
LOCATION:Foss Practice Site\, 1930 E D Street\, Tacoma\, WA\, 98421\, United States
CATEGORIES:Practice
GEO:47.2435744;-122.4310179
X-APPLE-STRUCTURED-LOCATION;VALUE=URI;X-ADDRESS=Foss Practice Site 1930 E D Street Tacoma WA 98421 United States;X-APPLE-RADIUS=500;X-TITLE=1930 E D Street:geo:-122.4310179,47.2435744
END:VEVENT
BEGIN:VEVENT
DTSTART;TZID=America/Los_Angeles:20260806T173000
DTEND;TZID=America/Los_Angeles:20260806T203000
DTSTAMP:20260419T183337
CREATED:20260415T005343Z
LAST-MODIFIED:20260415T005830Z
UID:10000115-1786037400-1786048200@kikaha.com
SUMMARY:Weekday Practice
DESCRIPTION:
URL:https://kikaha.com/event/weekday-practice/2026-08-06/
LOCATION:Foss Practice Site\, 1930 E D Street\, Tacoma\, WA\, 98421\, United States
CATEGORIES:Practice
GEO:47.2435744;-122.4310179
X-APPLE-STRUCTURED-LOCATION;VALUE=URI;X-ADDRESS=Foss Practice Site 1930 E D Street Tacoma WA 98421 United States;X-APPLE-RADIUS=500;X-TITLE=1930 E D Street:geo:-122.4310179,47.2435744
END:VEVENT
BEGIN:VEVENT
DTSTART;TZID=America/Los_Angeles:20260808T173000
DTEND;TZID=America/Los_Angeles:20260808T203000
DTSTAMP:20260419T183337
CREATED:20260415T005514Z
LAST-MODIFIED:20260415T005747Z
UID:10000206-1786210200-1786221000@kikaha.com
SUMMARY:Saturday Practice
DESCRIPTION:
URL:https://kikaha.com/event/saturday-practice/2026-08-08/
LOCATION:Foss Practice Site\, 1930 E D Street\, Tacoma\, WA\, 98421\, United States
CATEGORIES:Practice
GEO:47.2435744;-122.4310179
X-APPLE-STRUCTURED-LOCATION;VALUE=URI;X-ADDRESS=Foss Practice Site 1930 E D Street Tacoma WA 98421 United States;X-APPLE-RADIUS=500;X-TITLE=1930 E D Street:geo:-122.4310179,47.2435744
END:VEVENT
BEGIN:VEVENT
DTSTART;TZID=America/Los_Angeles:20260811T173000
DTEND;TZID=America/Los_Angeles:20260811T203000
DTSTAMP:20260419T183337
CREATED:20260415T005343Z
LAST-MODIFIED:20260415T005830Z
UID:10000116-1786469400-1786480200@kikaha.com
SUMMARY:Weekday Practice
DESCRIPTION:
URL:https://kikaha.com/event/weekday-practice/2026-08-11/
LOCATION:Foss Practice Site\, 1930 E D Street\, Tacoma\, WA\, 98421\, United States
CATEGORIES:Practice
GEO:47.2435744;-122.4310179
X-APPLE-STRUCTURED-LOCATION;VALUE=URI;X-ADDRESS=Foss Practice Site 1930 E D Street Tacoma WA 98421 United States;X-APPLE-RADIUS=500;X-TITLE=1930 E D Street:geo:-122.4310179,47.2435744
END:VEVENT
BEGIN:VEVENT
DTSTART;TZID=America/Los_Angeles:20260813T173000
DTEND;TZID=America/Los_Angeles:20260813T203000
DTSTAMP:20260419T183337
CREATED:20260415T005343Z
LAST-MODIFIED:20260415T005830Z
UID:10000117-1786642200-1786653000@kikaha.com
SUMMARY:Weekday Practice
DESCRIPTION:
URL:https://kikaha.com/event/weekday-practice/2026-08-13/
LOCATION:Foss Practice Site\, 1930 E D Street\, Tacoma\, WA\, 98421\, United States
CATEGORIES:Practice
GEO:47.2435744;-122.4310179
X-APPLE-STRUCTURED-LOCATION;VALUE=URI;X-ADDRESS=Foss Practice Site 1930 E D Street Tacoma WA 98421 United States;X-APPLE-RADIUS=500;X-TITLE=1930 E D Street:geo:-122.4310179,47.2435744
END:VEVENT
BEGIN:VEVENT
DTSTART;TZID=America/Los_Angeles:20260815T173000
DTEND;TZID=America/Los_Angeles:20260815T203000
DTSTAMP:20260419T183337
CREATED:20260415T005514Z
LAST-MODIFIED:20260415T005747Z
UID:10000207-1786815000-1786825800@kikaha.com
SUMMARY:Saturday Practice
DESCRIPTION:
URL:https://kikaha.com/event/saturday-practice/2026-08-15/
LOCATION:Foss Practice Site\, 1930 E D Street\, Tacoma\, WA\, 98421\, United States
CATEGORIES:Practice
GEO:47.2435744;-122.4310179
X-APPLE-STRUCTURED-LOCATION;VALUE=URI;X-ADDRESS=Foss Practice Site 1930 E D Street Tacoma WA 98421 United States;X-APPLE-RADIUS=500;X-TITLE=1930 E D Street:geo:-122.4310179,47.2435744
END:VEVENT
BEGIN:VEVENT
DTSTART;TZID=America/Los_Angeles:20260818T173000
DTEND;TZID=America/Los_Angeles:20260818T203000
DTSTAMP:20260419T183337
CREATED:20260415T005343Z
LAST-MODIFIED:20260415T005830Z
UID:10000118-1787074200-1787085000@kikaha.com
SUMMARY:Weekday Practice
DESCRIPTION:
URL:https://kikaha.com/event/weekday-practice/2026-08-18/
LOCATION:Foss Practice Site\, 1930 E D Street\, Tacoma\, WA\, 98421\, United States
CATEGORIES:Practice
GEO:47.2435744;-122.4310179
X-APPLE-STRUCTURED-LOCATION;VALUE=URI;X-ADDRESS=Foss Practice Site 1930 E D Street Tacoma WA 98421 United States;X-APPLE-RADIUS=500;X-TITLE=1930 E D Street:geo:-122.4310179,47.2435744
END:VEVENT
BEGIN:VEVENT
DTSTART;TZID=America/Los_Angeles:20260820T173000
DTEND;TZID=America/Los_Angeles:20260820T203000
DTSTAMP:20260419T183337
CREATED:20260415T005343Z
LAST-MODIFIED:20260415T005830Z
UID:10000119-1787247000-1787257800@kikaha.com
SUMMARY:Weekday Practice
DESCRIPTION:
URL:https://kikaha.com/event/weekday-practice/2026-08-20/
LOCATION:Foss Practice Site\, 1930 E D Street\, Tacoma\, WA\, 98421\, United States
CATEGORIES:Practice
GEO:47.2435744;-122.4310179
X-APPLE-STRUCTURED-LOCATION;VALUE=URI;X-ADDRESS=Foss Practice Site 1930 E D Street Tacoma WA 98421 United States;X-APPLE-RADIUS=500;X-TITLE=1930 E D Street:geo:-122.4310179,47.2435744
END:VEVENT
BEGIN:VEVENT
DTSTART;TZID=America/Los_Angeles:20260822T173000
DTEND;TZID=America/Los_Angeles:20260822T203000
DTSTAMP:20260419T183337
CREATED:20260415T005514Z
LAST-MODIFIED:20260415T005747Z
UID:10000208-1787419800-1787430600@kikaha.com
SUMMARY:Saturday Practice
DESCRIPTION:
URL:https://kikaha.com/event/saturday-practice/2026-08-22/
LOCATION:Foss Practice Site\, 1930 E D Street\, Tacoma\, WA\, 98421\, United States
CATEGORIES:Practice
GEO:47.2435744;-122.4310179
X-APPLE-STRUCTURED-LOCATION;VALUE=URI;X-ADDRESS=Foss Practice Site 1930 E D Street Tacoma WA 98421 United States;X-APPLE-RADIUS=500;X-TITLE=1930 E D Street:geo:-122.4310179,47.2435744
END:VEVENT
BEGIN:VEVENT
DTSTART;TZID=America/Los_Angeles:20260825T173000
DTEND;TZID=America/Los_Angeles:20260825T203000
DTSTAMP:20260419T183337
CREATED:20260415T005343Z
LAST-MODIFIED:20260415T005830Z
UID:10000120-1787679000-1787689800@kikaha.com
SUMMARY:Weekday Practice
DESCRIPTION:
URL:https://kikaha.com/event/weekday-practice/2026-08-25/
LOCATION:Foss Practice Site\, 1930 E D Street\, Tacoma\, WA\, 98421\, United States
CATEGORIES:Practice
GEO:47.2435744;-122.4310179
X-APPLE-STRUCTURED-LOCATION;VALUE=URI;X-ADDRESS=Foss Practice Site 1930 E D Street Tacoma WA 98421 United States;X-APPLE-RADIUS=500;X-TITLE=1930 E D Street:geo:-122.4310179,47.2435744
END:VEVENT
BEGIN:VEVENT
DTSTART;TZID=America/Los_Angeles:20260827T173000
DTEND;TZID=America/Los_Angeles:20260827T203000
DTSTAMP:20260419T183337
CREATED:20260415T005343Z
LAST-MODIFIED:20260415T005830Z
UID:10000121-1787851800-1787862600@kikaha.com
SUMMARY:Weekday Practice
DESCRIPTION:
URL:https://kikaha.com/event/weekday-practice/2026-08-27/
LOCATION:Foss Practice Site\, 1930 E D Street\, Tacoma\, WA\, 98421\, United States
CATEGORIES:Practice
GEO:47.2435744;-122.4310179
X-APPLE-STRUCTURED-LOCATION;VALUE=URI;X-ADDRESS=Foss Practice Site 1930 E D Street Tacoma WA 98421 United States;X-APPLE-RADIUS=500;X-TITLE=1930 E D Street:geo:-122.4310179,47.2435744
END:VEVENT
BEGIN:VEVENT
DTSTART;TZID=America/Los_Angeles:20260829T080000
DTEND;TZID=America/Los_Angeles:20260829T170000
DTSTAMP:20260419T183337
CREATED:20260414T193524Z
LAST-MODIFIED:20260415T004408Z
UID:10000060-1787990400-1788022800@kikaha.com
SUMMARY:Da Grind – Hosted by Seattle Outrigger Canoe Club
DESCRIPTION:
URL:https://kikaha.com/event/da-grind-hosted-by-seattle-outrigger-canoe-club/
LOCATION:Alki Beach\, 2701 Alki Ave SW\, Seattle\, WA\, 98116
CATEGORIES:Distance Race,Iron,OC6,Short Course
GEO:47.5796251;-122.4095955
X-APPLE-STRUCTURED-LOCATION;VALUE=URI;X-ADDRESS=Alki Beach 2701 Alki Ave SW Seattle WA 98116;X-APPLE-RADIUS=500;X-TITLE=2701 Alki Ave SW:geo:-122.4095955,47.5796251
END:VEVENT
BEGIN:VEVENT
DTSTART;TZID=America/Los_Angeles:20260829T173000
DTEND;TZID=America/Los_Angeles:20260829T203000
DTSTAMP:20260419T183337
CREATED:20260415T005514Z
LAST-MODIFIED:20260415T005747Z
UID:10000209-1788024600-1788035400@kikaha.com
SUMMARY:Saturday Practice
DESCRIPTION:
URL:https://kikaha.com/event/saturday-practice/2026-08-29/
LOCATION:Foss Practice Site\, 1930 E D Street\, Tacoma\, WA\, 98421\, United States
CATEGORIES:Practice
GEO:47.2435744;-122.4310179
X-APPLE-STRUCTURED-LOCATION;VALUE=URI;X-ADDRESS=Foss Practice Site 1930 E D Street Tacoma WA 98421 United States;X-APPLE-RADIUS=500;X-TITLE=1930 E D Street:geo:-122.4310179,47.2435744
END:VEVENT
BEGIN:VEVENT
DTSTART;TZID=America/Los_Angeles:20260901T173000
DTEND;TZID=America/Los_Angeles:20260901T203000
DTSTAMP:20260419T183337
CREATED:20260415T005343Z
LAST-MODIFIED:20260415T005830Z
UID:10000122-1788283800-1788294600@kikaha.com
SUMMARY:Weekday Practice
DESCRIPTION:
URL:https://kikaha.com/event/weekday-practice/2026-09-01/
LOCATION:Foss Practice Site\, 1930 E D Street\, Tacoma\, WA\, 98421\, United States
CATEGORIES:Practice
GEO:47.2435744;-122.4310179
X-APPLE-STRUCTURED-LOCATION;VALUE=URI;X-ADDRESS=Foss Practice Site 1930 E D Street Tacoma WA 98421 United States;X-APPLE-RADIUS=500;X-TITLE=1930 E D Street:geo:-122.4310179,47.2435744
END:VEVENT
BEGIN:VEVENT
DTSTART;TZID=America/Los_Angeles:20260903T173000
DTEND;TZID=America/Los_Angeles:20260903T203000
DTSTAMP:20260419T183337
CREATED:20260415T005343Z
LAST-MODIFIED:20260415T005830Z
UID:10000123-1788456600-1788467400@kikaha.com
SUMMARY:Weekday Practice
DESCRIPTION:
URL:https://kikaha.com/event/weekday-practice/2026-09-03/
LOCATION:Foss Practice Site\, 1930 E D Street\, Tacoma\, WA\, 98421\, United States
CATEGORIES:Practice
GEO:47.2435744;-122.4310179
X-APPLE-STRUCTURED-LOCATION;VALUE=URI;X-ADDRESS=Foss Practice Site 1930 E D Street Tacoma WA 98421 United States;X-APPLE-RADIUS=500;X-TITLE=1930 E D Street:geo:-122.4310179,47.2435744
END:VEVENT
BEGIN:VEVENT
DTSTART;TZID=America/Los_Angeles:20260905T173000
DTEND;TZID=America/Los_Angeles:20260905T203000
DTSTAMP:20260419T183337
CREATED:20260415T005514Z
LAST-MODIFIED:20260415T005747Z
UID:10000210-1788629400-1788640200@kikaha.com
SUMMARY:Saturday Practice
DESCRIPTION:
URL:https://kikaha.com/event/saturday-practice/2026-09-05/
LOCATION:Foss Practice Site\, 1930 E D Street\, Tacoma\, WA\, 98421\, United States
CATEGORIES:Practice
GEO:47.2435744;-122.4310179
X-APPLE-STRUCTURED-LOCATION;VALUE=URI;X-ADDRESS=Foss Practice Site 1930 E D Street Tacoma WA 98421 United States;X-APPLE-RADIUS=500;X-TITLE=1930 E D Street:geo:-122.4310179,47.2435744
END:VEVENT
BEGIN:VEVENT
DTSTART;TZID=America/Los_Angeles:20260908T173000
DTEND;TZID=America/Los_Angeles:20260908T203000
DTSTAMP:20260419T183337
CREATED:20260415T005343Z
LAST-MODIFIED:20260415T005830Z
UID:10000124-1788888600-1788899400@kikaha.com
SUMMARY:Weekday Practice
DESCRIPTION:
URL:https://kikaha.com/event/weekday-practice/2026-09-08/
LOCATION:Foss Practice Site\, 1930 E D Street\, Tacoma\, WA\, 98421\, United States
CATEGORIES:Practice
GEO:47.2435744;-122.4310179
X-APPLE-STRUCTURED-LOCATION;VALUE=URI;X-ADDRESS=Foss Practice Site 1930 E D Street Tacoma WA 98421 United States;X-APPLE-RADIUS=500;X-TITLE=1930 E D Street:geo:-122.4310179,47.2435744
END:VEVENT
BEGIN:VEVENT
DTSTART;TZID=America/Los_Angeles:20260910T173000
DTEND;TZID=America/Los_Angeles:20260910T203000
DTSTAMP:20260419T183337
CREATED:20260415T005343Z
LAST-MODIFIED:20260415T005830Z
UID:10000125-1789061400-1789072200@kikaha.com
SUMMARY:Weekday Practice
DESCRIPTION:
URL:https://kikaha.com/event/weekday-practice/2026-09-10/
LOCATION:Foss Practice Site\, 1930 E D Street\, Tacoma\, WA\, 98421\, United States
CATEGORIES:Practice
GEO:47.2435744;-122.4310179
X-APPLE-STRUCTURED-LOCATION;VALUE=URI;X-ADDRESS=Foss Practice Site 1930 E D Street Tacoma WA 98421 United States;X-APPLE-RADIUS=500;X-TITLE=1930 E D Street:geo:-122.4310179,47.2435744
END:VEVENT
BEGIN:VEVENT
DTSTART;TZID=America/Los_Angeles:20260912T173000
DTEND;TZID=America/Los_Angeles:20260912T203000
DTSTAMP:20260419T183337
CREATED:20260415T005514Z
LAST-MODIFIED:20260415T005747Z
UID:10000211-1789234200-1789245000@kikaha.com
SUMMARY:Saturday Practice
DESCRIPTION:
URL:https://kikaha.com/event/saturday-practice/2026-09-12/
LOCATION:Foss Practice Site\, 1930 E D Street\, Tacoma\, WA\, 98421\, United States
CATEGORIES:Practice
GEO:47.2435744;-122.4310179
X-APPLE-STRUCTURED-LOCATION;VALUE=URI;X-ADDRESS=Foss Practice Site 1930 E D Street Tacoma WA 98421 United States;X-APPLE-RADIUS=500;X-TITLE=1930 E D Street:geo:-122.4310179,47.2435744
END:VEVENT
BEGIN:VEVENT
DTSTART;TZID=America/Los_Angeles:20260915T173000
DTEND;TZID=America/Los_Angeles:20260915T203000
DTSTAMP:20260419T183337
CREATED:20260415T005343Z
LAST-MODIFIED:20260415T005830Z
UID:10000126-1789493400-1789504200@kikaha.com
SUMMARY:Weekday Practice
DESCRIPTION:
URL:https://kikaha.com/event/weekday-practice/2026-09-15/
LOCATION:Foss Practice Site\, 1930 E D Street\, Tacoma\, WA\, 98421\, United States
CATEGORIES:Practice
GEO:47.2435744;-122.4310179
X-APPLE-STRUCTURED-LOCATION;VALUE=URI;X-ADDRESS=Foss Practice Site 1930 E D Street Tacoma WA 98421 United States;X-APPLE-RADIUS=500;X-TITLE=1930 E D Street:geo:-122.4310179,47.2435744
END:VEVENT
BEGIN:VEVENT
DTSTART;TZID=America/Los_Angeles:20260917T173000
DTEND;TZID=America/Los_Angeles:20260917T203000
DTSTAMP:20260419T183337
CREATED:20260415T005343Z
LAST-MODIFIED:20260415T005830Z
UID:10000127-1789666200-1789677000@kikaha.com
SUMMARY:Weekday Practice
DESCRIPTION:
URL:https://kikaha.com/event/weekday-practice/2026-09-17/
LOCATION:Foss Practice Site\, 1930 E D Street\, Tacoma\, WA\, 98421\, United States
CATEGORIES:Practice
GEO:47.2435744;-122.4310179
X-APPLE-STRUCTURED-LOCATION;VALUE=URI;X-ADDRESS=Foss Practice Site 1930 E D Street Tacoma WA 98421 United States;X-APPLE-RADIUS=500;X-TITLE=1930 E D Street:geo:-122.4310179,47.2435744
END:VEVENT
BEGIN:VEVENT
DTSTART;TZID=America/Los_Angeles:20260919T173000
DTEND;TZID=America/Los_Angeles:20260919T203000
DTSTAMP:20260419T183337
CREATED:20260415T005514Z
LAST-MODIFIED:20260415T005747Z
UID:10000212-1789839000-1789849800@kikaha.com
SUMMARY:Saturday Practice
DESCRIPTION:
URL:https://kikaha.com/event/saturday-practice/2026-09-19/
LOCATION:Foss Practice Site\, 1930 E D Street\, Tacoma\, WA\, 98421\, United States
CATEGORIES:Practice
GEO:47.2435744;-122.4310179
X-APPLE-STRUCTURED-LOCATION;VALUE=URI;X-ADDRESS=Foss Practice Site 1930 E D Street Tacoma WA 98421 United States;X-APPLE-RADIUS=500;X-TITLE=1930 E D Street:geo:-122.4310179,47.2435744
END:VEVENT
BEGIN:VEVENT
DTSTART;TZID=America/Los_Angeles:20260922T173000
DTEND;TZID=America/Los_Angeles:20260922T203000
DTSTAMP:20260419T183337
CREATED:20260415T005343Z
LAST-MODIFIED:20260415T005830Z
UID:10000128-1790098200-1790109000@kikaha.com
SUMMARY:Weekday Practice
DESCRIPTION:
URL:https://kikaha.com/event/weekday-practice/2026-09-22/
LOCATION:Foss Practice Site\, 1930 E D Street\, Tacoma\, WA\, 98421\, United States
CATEGORIES:Practice
GEO:47.2435744;-122.4310179
X-APPLE-STRUCTURED-LOCATION;VALUE=URI;X-ADDRESS=Foss Practice Site 1930 E D Street Tacoma WA 98421 United States;X-APPLE-RADIUS=500;X-TITLE=1930 E D Street:geo:-122.4310179,47.2435744
END:VEVENT
BEGIN:VEVENT
DTSTART;TZID=America/Los_Angeles:20260924T173000
DTEND;TZID=America/Los_Angeles:20260924T203000
DTSTAMP:20260419T183337
CREATED:20260415T005343Z
LAST-MODIFIED:20260415T005830Z
UID:10000129-1790271000-1790281800@kikaha.com
SUMMARY:Weekday Practice
DESCRIPTION:
URL:https://kikaha.com/event/weekday-practice/2026-09-24/
LOCATION:Foss Practice Site\, 1930 E D Street\, Tacoma\, WA\, 98421\, United States
CATEGORIES:Practice
GEO:47.2435744;-122.4310179
X-APPLE-STRUCTURED-LOCATION;VALUE=URI;X-ADDRESS=Foss Practice Site 1930 E D Street Tacoma WA 98421 United States;X-APPLE-RADIUS=500;X-TITLE=1930 E D Street:geo:-122.4310179,47.2435744
END:VEVENT
END:VCALENDAR