BEGIN:VCALENDAR
VERSION:2.0
PRODID:-//Kikaha O Ke Kai - ECPv6.15.20//NONSGML v1.0//EN
CALSCALE:GREGORIAN
METHOD:PUBLISH
X-WR-CALNAME:Kikaha O Ke Kai
X-ORIGINAL-URL:https://kikaha.com
X-WR-CALDESC:Events for Kikaha O Ke Kai
REFRESH-INTERVAL;VALUE=DURATION:PT1H
X-Robots-Tag:noindex
X-PUBLISHED-TTL:PT1H
BEGIN:VTIMEZONE
TZID:America/Los_Angeles
BEGIN:DAYLIGHT
TZOFFSETFROM:-0800
TZOFFSETTO:-0700
TZNAME:PDT
DTSTART:20210314T100000
END:DAYLIGHT
BEGIN:STANDARD
TZOFFSETFROM:-0700
TZOFFSETTO:-0800
TZNAME:PST
DTSTART:20211107T090000
END:STANDARD
BEGIN:DAYLIGHT
TZOFFSETFROM:-0800
TZOFFSETTO:-0700
TZNAME:PDT
DTSTART:20220313T100000
END:DAYLIGHT
BEGIN:STANDARD
TZOFFSETFROM:-0700
TZOFFSETTO:-0800
TZNAME:PST
DTSTART:20221106T090000
END:STANDARD
BEGIN:DAYLIGHT
TZOFFSETFROM:-0800
TZOFFSETTO:-0700
TZNAME:PDT
DTSTART:20230312T100000
END:DAYLIGHT
BEGIN:STANDARD
TZOFFSETFROM:-0700
TZOFFSETTO:-0800
TZNAME:PST
DTSTART:20231105T090000
END:STANDARD
BEGIN:DAYLIGHT
TZOFFSETFROM:-0800
TZOFFSETTO:-0700
TZNAME:PDT
DTSTART:20240310T100000
END:DAYLIGHT
BEGIN:STANDARD
TZOFFSETFROM:-0700
TZOFFSETTO:-0800
TZNAME:PST
DTSTART:20241103T090000
END:STANDARD
END:VTIMEZONE
BEGIN:VEVENT
DTSTART;VALUE=DATE:20230708
DTEND;VALUE=DATE:20230709
DTSTAMP:20260419T211223
CREATED:20221207T014436Z
LAST-MODIFIED:20221207T014436Z
UID:10000012-1688774400-1688860799@kikaha.com
SUMMARY:The Gorge Race
DESCRIPTION:The Gorge Race. Camping available at Skamania County Fairgrounds before/after race – more information to follow.
URL:https://kikaha.com/event/the-gorge-race/
LOCATION:Skamania County Fairgrounds\, 710 SW Rock Creek Dr\, Stevenson\, WA\, 98648
CATEGORIES:Distance Race
GEO:45.6923108;-121.8940865
X-APPLE-STRUCTURED-LOCATION;VALUE=URI;X-ADDRESS=Skamania County Fairgrounds 710 SW Rock Creek Dr Stevenson WA 98648;X-APPLE-RADIUS=500;X-TITLE=710 SW Rock Creek Dr:geo:-121.8940865,45.6923108
END:VEVENT
BEGIN:VEVENT
DTSTART;VALUE=DATE:20230624
DTEND;VALUE=DATE:20230625
DTSTAMP:20260419T211223
CREATED:20221207T014141Z
LAST-MODIFIED:20221207T014152Z
UID:10000011-1687564800-1687651199@kikaha.com
SUMMARY:Rooster Rock Iron
DESCRIPTION:Rooster Rock Iron race. Stay tuned for more information regarding camping after the race!
URL:https://kikaha.com/event/rooster-rock-iron/
LOCATION:Rooster Rock State Park\, Corbett\, OR\, 97019
CATEGORIES:Distance Race
GEO:45.5317887;-122.2912175
END:VEVENT
BEGIN:VEVENT
DTSTART;VALUE=DATE:20230610
DTEND;VALUE=DATE:20230611
DTSTAMP:20260419T211223
CREATED:20221207T014040Z
LAST-MODIFIED:20221207T014040Z
UID:10000010-1686355200-1686441599@kikaha.com
SUMMARY:Silver Lake Sprint Regatta
DESCRIPTION:Silver Lake Sprint Regatta
URL:https://kikaha.com/event/silver-lake-sprint-regatta/
LOCATION:Thornton Sullivan Park\, 11405 Silver Lake Rd\, Everett\, WA\, 98208
CATEGORIES:Sprint Race
GEO:47.8961179;-122.2134334
X-APPLE-STRUCTURED-LOCATION;VALUE=URI;X-ADDRESS=Thornton Sullivan Park 11405 Silver Lake Rd Everett WA 98208;X-APPLE-RADIUS=500;X-TITLE=11405 Silver Lake Rd:geo:-122.2134334,47.8961179
END:VEVENT
BEGIN:VEVENT
DTSTART;VALUE=DATE:20230603
DTEND;VALUE=DATE:20230604
DTSTAMP:20260419T211223
CREATED:20221207T013941Z
LAST-MODIFIED:20221207T013941Z
UID:10000009-1685750400-1685836799@kikaha.com
SUMMARY:Silverdale Sprints
DESCRIPTION:Silverdale Sprint Regatta
URL:https://kikaha.com/event/silverdale-sprints-2/
LOCATION:Silverdale Waterfront Park\, 3337 NW Byron St\, Silverdale\, WA\, 98383
CATEGORIES:Sprint Race
GEO:47.6441204;-122.6944622
X-APPLE-STRUCTURED-LOCATION;VALUE=URI;X-ADDRESS=Silverdale Waterfront Park 3337 NW Byron St Silverdale WA 98383;X-APPLE-RADIUS=500;X-TITLE=3337 NW Byron St:geo:-122.6944622,47.6441204
END:VEVENT
BEGIN:VEVENT
DTSTART;VALUE=DATE:20230527
DTEND;VALUE=DATE:20230528
DTSTAMP:20260419T211223
CREATED:20221207T013852Z
LAST-MODIFIED:20221207T013852Z
UID:10000008-1685145600-1685231999@kikaha.com
SUMMARY:Green Lake Sprints
DESCRIPTION:Green Lake Sprint Regatta\, hosted by Hui Wa’a o Waikinikona
URL:https://kikaha.com/event/green-lake-sprints/
LOCATION:Greenlake Park\, 5900 West Green Lake Way N\, Seattle\, WA\, 98103
CATEGORIES:Sprint Race
GEO:47.6716959;-122.3430429
X-APPLE-STRUCTURED-LOCATION;VALUE=URI;X-ADDRESS=Greenlake Park 5900 West Green Lake Way N Seattle WA 98103;X-APPLE-RADIUS=500;X-TITLE=5900 West Green Lake Way N:geo:-122.3430429,47.6716959
END:VEVENT
BEGIN:VEVENT
DTSTART;VALUE=DATE:20230520
DTEND;VALUE=DATE:20230521
DTSTAMP:20260419T211223
CREATED:20221207T013541Z
LAST-MODIFIED:20221207T013541Z
UID:10000007-1684540800-1684627199@kikaha.com
SUMMARY:Manu Baker Memorial Sprints
DESCRIPTION:Kikaha hosts our annual Manu Baker Memorial Sprint Regatta! Stay tuned for more information from the club on how you can help!
URL:https://kikaha.com/event/manu-baker-memorial-sprints/
LOCATION:Spanaway Lake\, 14905 Bresemann Blvd S\, Spanaway\, WA\, 98387
CATEGORIES:Sprint Race
GEO:47.1171488;-122.4403211
X-APPLE-STRUCTURED-LOCATION;VALUE=URI;X-ADDRESS=Spanaway Lake 14905 Bresemann Blvd S Spanaway WA 98387;X-APPLE-RADIUS=500;X-TITLE=14905 Bresemann Blvd S:geo:-122.4403211,47.1171488
END:VEVENT
BEGIN:VEVENT
DTSTART;VALUE=DATE:20230429
DTEND;VALUE=DATE:20230430
DTSTAMP:20260419T211223
CREATED:20221207T013314Z
LAST-MODIFIED:20221207T013314Z
UID:10000006-1682726400-1682812799@kikaha.com
SUMMARY:RATI - Race Around The Island
DESCRIPTION:Race Around The Island
URL:https://kikaha.com/event/rati-race-around-the-island/
LOCATION:Chinook Landing Marine Park\, 22300 NE Marine Dr\, Fairview\, OR\, 97024
CATEGORIES:Distance Race
GEO:45.5571717;-122.4343871
X-APPLE-STRUCTURED-LOCATION;VALUE=URI;X-ADDRESS=Chinook Landing Marine Park 22300 NE Marine Dr Fairview OR 97024;X-APPLE-RADIUS=500;X-TITLE=22300 NE Marine Dr:geo:-122.4343871,45.5571717
END:VEVENT
BEGIN:VEVENT
DTSTART;VALUE=DATE:20230422
DTEND;VALUE=DATE:20230423
DTSTAMP:20260419T211223
CREATED:20221207T013131Z
LAST-MODIFIED:20221207T013131Z
UID:10000005-1682121600-1682207999@kikaha.com
SUMMARY:Rusty Iron Distance
DESCRIPTION:Hosted by Pacific Outrigger Canoe Club. More information here.
URL:https://kikaha.com/event/rusty-iron-distance/
LOCATION:Frenchman’s Bar Regional Park\, 9612 NW Lower River Rd\, Vancouver\, WA\, 98660\, United States
CATEGORIES:Distance Race
END:VEVENT
BEGIN:VEVENT
DTSTART;TZID=America/Los_Angeles:20230415T090000
DTEND;TZID=America/Los_Angeles:20230415T130000
DTSTAMP:20260419T211223
CREATED:20230323T042641Z
LAST-MODIFIED:20230323T042719Z
UID:10000022-1681549200-1681563600@kikaha.com
SUMMARY:Huli Practice
DESCRIPTION:Here is our schedule of events for the day:\n9am – Show up time – Registration and Waiver confirmation \n\n \n9:30am – Cold Water Safety Briefing – Lee Warnaca Instructor\n \n10am – Instructions of OC6 Huli Recovery – step by step instructions and what to expect for the day\n \n\n10:30am – Clubs and paddlers are divided up to go through 3 stations \n1) OC6 Huli Recovery  2) OC1 Huli Recovery  3) Float Test\n12:30pm – Huli Recovery Coaches will summarize and evaluate what they noticed and what we can learn from these practices. \n\n \n1pm – Event ends – everyone out of pool
URL:https://kikaha.com/event/huli-practice/
LOCATION:Mount Tahoma High School Pool\, 4634 S 74th Street\, Tacoma\, WA\, 98404\, United States
END:VEVENT
BEGIN:VEVENT
DTSTART;TZID=America/Los_Angeles:20230408T110000
DTEND;TZID=America/Los_Angeles:20230408T190000
DTSTAMP:20260419T211223
CREATED:20230312T004100Z
LAST-MODIFIED:20230312T004100Z
UID:10000020-1680951600-1680980400@kikaha.com
SUMMARY:Aha Mele
DESCRIPTION:This wonderful cultural event is a great opportunity for Kikaha to interact with the Hawaiian Community. We will have a table with Club Information\, staffed by Kikaha Boosters and anyone attending practice that day. Please talk to Aunty Nellie or visit the event website for more information!
URL:https://kikaha.com/event/aha-mele/
LOCATION:Chief Leschi Schools\, 5625 52nd Street E\, WA\, 98371\, United States
END:VEVENT
BEGIN:VEVENT
DTSTART;TZID=America/Los_Angeles:20230401T100000
DTEND;TZID=America/Los_Angeles:20230401T120000
DTSTAMP:20260419T211223
CREATED:20230312T005159Z
LAST-MODIFIED:20230312T005159Z
UID:10000021-1680343200-1680350400@kikaha.com
SUMMARY:Daffodil Parade
DESCRIPTION:Join Kikaha as we participate in the 90th Annual Daffodil Festival Grand Floral Parade! We will have our canoe decorated with beautiful Daffodil flowers as we travel through the Tacoma parade route. More information to come!
URL:https://kikaha.com/event/daffodil-parade/
LOCATION:WA
END:VEVENT
BEGIN:VEVENT
DTSTART;TZID=America/Los_Angeles:20230225T110000
DTEND;TZID=America/Los_Angeles:20230225T180000
DTSTAMP:20260419T211223
CREATED:20230204T192136Z
LAST-MODIFIED:20230214T015507Z
UID:10000019-1677322800-1677348000@kikaha.com
SUMMARY:
DESCRIPTION:Lunar Festival –   We will be there with our OC-1 and rowing machine. Stop by and say “Aloha” \nTacoma Dome Exhibition Hall 11:00 AM – 6:00 PM
URL:https://kikaha.com/event/24916/
LOCATION:Tacoma dome\, 2727 E D St\, Tacoma\, WA\, 98421\, United States
END:VEVENT
BEGIN:VEVENT
DTSTART;TZID=America/Los_Angeles:20230225T110000
DTEND;TZID=America/Los_Angeles:20230225T180000
DTSTAMP:20260419T211223
CREATED:20230204T183212Z
LAST-MODIFIED:20230204T183212Z
UID:10000018-1677322800-1677348000@kikaha.com
SUMMARY:APCC Lunar New Year Celebration
DESCRIPTION:Join Kikaha as we celebrate the Lunar New Year with Tacoma’s Asia Pacific Cultural Center! Held at Tacoma Dome exhibition hall\, we will be promoting our wonderful outrigger canoe club and sport.\nReally appreciate all your support for this important event\, which is located about 4 blocks from our canoe site. Also attached is the flyer for this very well-attended event. It’s FREE to the public.
URL:https://kikaha.com/event/apcc-lunar-new-year-celebration/
LOCATION:Tacoma dome\, 2727 E D St\, Tacoma\, WA\, 98421\, United States
END:VEVENT
BEGIN:VEVENT
DTSTART;VALUE=DATE:20220604
DTEND;VALUE=DATE:20220605
DTSTAMP:20260419T211223
CREATED:20220513T012506Z
LAST-MODIFIED:20220513T014515Z
UID:10000004-1654300800-1654333200@kikaha.com
SUMMARY:Silverdale Sprints
DESCRIPTION:Kikaha is co-hosting with Hui Hei Hei Wa’a this year’s Silverdale Sprint Race! \nFor more information\, please click HERE. \nWatch your email for more information coming soon about ways you can volunteer to support the club.
URL:https://kikaha.com/event/silverdale-sprints/
LOCATION:Silverdale Waterfront Park\, 3337 NW Byron St\, Silverdale\, WA\, 98383
GEO:47.6441204;-122.6944622
X-APPLE-STRUCTURED-LOCATION;VALUE=URI;X-ADDRESS=Silverdale Waterfront Park 3337 NW Byron St Silverdale WA 98383;X-APPLE-RADIUS=500;X-TITLE=3337 NW Byron St:geo:-122.6944622,47.6441204
END:VEVENT
BEGIN:VEVENT
DTSTART;VALUE=DATE:20220528
DTEND;VALUE=DATE:20220529
DTSTAMP:20260419T211223
CREATED:20220513T012200Z
LAST-MODIFIED:20220513T012200Z
UID:10000003-1653696000-1653782399@kikaha.com
SUMMARY:Na Po'e O ke Kai (Green Lake Sprint Regatta)
DESCRIPTION:Hui Wa’a O Wakinikona (HWOW)  invites all PNW-ORCA clubs to participate in the 23rd running of the Na Po’e O ke Kai at Green Lake\, in Seattle on Saturday\, May 28. More race information HERE. \nIf you are planning on participating\, please let us know by May 21st.  Coach Brian will be assembling the sprint crews – but WE NEED STEERSPEOPLE!!!!
URL:https://kikaha.com/event/na-poe-o-ke-kai-green-lake-sprint-regatta/
LOCATION:Greenlake Park\, 5900 West Green Lake Way N\, Seattle\, WA\, 98103
GEO:47.6716959;-122.3430429
X-APPLE-STRUCTURED-LOCATION;VALUE=URI;X-ADDRESS=Greenlake Park 5900 West Green Lake Way N Seattle WA 98103;X-APPLE-RADIUS=500;X-TITLE=5900 West Green Lake Way N:geo:-122.3430429,47.6716959
END:VEVENT
END:VCALENDAR