BEGIN:VCALENDAR
VERSION:2.0
PRODID:-//Kikaha O Ke Kai - ECPv6.15.20//NONSGML v1.0//EN
CALSCALE:GREGORIAN
METHOD:PUBLISH
X-ORIGINAL-URL:https://kikaha.com
X-WR-CALDESC:Events for Kikaha O Ke Kai
REFRESH-INTERVAL;VALUE=DURATION:PT1H
X-Robots-Tag:noindex
X-PUBLISHED-TTL:PT1H
BEGIN:VTIMEZONE
TZID:America/Los_Angeles
BEGIN:DAYLIGHT
TZOFFSETFROM:-0800
TZOFFSETTO:-0700
TZNAME:PDT
DTSTART:20220313T100000
END:DAYLIGHT
BEGIN:STANDARD
TZOFFSETFROM:-0700
TZOFFSETTO:-0800
TZNAME:PST
DTSTART:20221106T090000
END:STANDARD
BEGIN:DAYLIGHT
TZOFFSETFROM:-0800
TZOFFSETTO:-0700
TZNAME:PDT
DTSTART:20230312T100000
END:DAYLIGHT
BEGIN:STANDARD
TZOFFSETFROM:-0700
TZOFFSETTO:-0800
TZNAME:PST
DTSTART:20231105T090000
END:STANDARD
BEGIN:DAYLIGHT
TZOFFSETFROM:-0800
TZOFFSETTO:-0700
TZNAME:PDT
DTSTART:20240310T100000
END:DAYLIGHT
BEGIN:STANDARD
TZOFFSETFROM:-0700
TZOFFSETTO:-0800
TZNAME:PST
DTSTART:20241103T090000
END:STANDARD
END:VTIMEZONE
BEGIN:VEVENT
DTSTART;VALUE=DATE:20230805
DTEND;VALUE=DATE:20230806
DTSTAMP:20260423T125456
CREATED:20221207T014818Z
LAST-MODIFIED:20221207T014818Z
UID:10000014-1691193600-1691279999@kikaha.com
SUMMARY:Kalama Distance
DESCRIPTION:New race! Hosted by Zamboanga Canoe Club. More information to come
URL:https://kikaha.com/event/kalama-distance/
LOCATION:WA
CATEGORIES:Distance Race
END:VEVENT
BEGIN:VEVENT
DTSTART;VALUE=DATE:20230805
DTEND;VALUE=DATE:20230806
DTSTAMP:20260423T125456
CREATED:20230629T030812Z
LAST-MODIFIED:20230629T030828Z
UID:10000023-1691193600-1691279999@kikaha.com
SUMMARY:
DESCRIPTION:Our largest fundraiser of the year! Get a team of 5 paddlers together and compete against other area groups and businesses for the ultimate bragging rights! 3 races include 150m Sprint\, 250m Sprint\, and 1 mile lap race! \n  \nCanoes\, Paddles\, PFD’s\, and Steerspeople will be provided by Kikaha. Once you have your team\, email kikaha.info@gmail.com to sign up!
URL:https://kikaha.com/event/corprace2023/
LOCATION:Thea Foss Park\, 405 Dock St\, Tacoma\, WA\, 98402
GEO:47.2598513;-122.4383662
X-APPLE-STRUCTURED-LOCATION;VALUE=URI;X-ADDRESS=Thea Foss Park 405 Dock St Tacoma WA 98402;X-APPLE-RADIUS=500;X-TITLE=405 Dock St:geo:-122.4383662,47.2598513
END:VEVENT
BEGIN:VEVENT
DTSTART;VALUE=DATE:20230812
DTEND;VALUE=DATE:20230813
DTSTAMP:20260423T125456
CREATED:20221207T014949Z
LAST-MODIFIED:20221207T014949Z
UID:10000015-1691798400-1691884799@kikaha.com
SUMMARY:Bellingham Bay Classic
DESCRIPTION:BBOP hosts the annual Bellingham Bay Classic
URL:https://kikaha.com/event/bellingham-bay-classic/
LOCATION:Boulevard Park\, 470 Bayview Dr\, Bellingham\, WA\, 98225
CATEGORIES:Distance Race
GEO:48.7312585;-122.5030982
X-APPLE-STRUCTURED-LOCATION;VALUE=URI;X-ADDRESS=Boulevard Park 470 Bayview Dr Bellingham WA 98225;X-APPLE-RADIUS=500;X-TITLE=470 Bayview Dr:geo:-122.5030982,48.7312585
END:VEVENT
BEGIN:VEVENT
DTSTART;VALUE=DATE:20230819
DTEND;VALUE=DATE:20230820
DTSTAMP:20260423T125456
CREATED:20221207T015337Z
LAST-MODIFIED:20221207T015337Z
UID:10000016-1692403200-1692489599@kikaha.com
SUMMARY:Makuakane Challenge
DESCRIPTION:9-person changeout race hosted by Kai Pana Outrigger
URL:https://kikaha.com/event/makuakane-challenge/
LOCATION:Kai Pana\, 101 Pine Street\, Bellingham\, WA\, 98225\, United States
CATEGORIES:Changeout,Distance Race
END:VEVENT
BEGIN:VEVENT
DTSTART;TZID=America/Los_Angeles:20230827T080000
DTEND;TZID=America/Los_Angeles:20230827T080000
DTSTAMP:20260423T125456
CREATED:20221207T015510Z
LAST-MODIFIED:20230818T002347Z
UID:10000017-1693123200-1693123200@kikaha.com
SUMMARY:Pacific Northwest Outrigger Challenge
DESCRIPTION:NOTE: DATE HAS BEEN CHANGED TO 8/27 TO ACCOMODATE HOKULEA’S ARRIVAL IN SEATLE \nPNW Outrigger Challenge\, with courses ranging from a 10 mile beach-changeout\, to 18 mile Iron\, and 27 mile distance change-out. \nRace packet can be downloaded HERE. Watch for email communication from the coaches for more information!
URL:https://kikaha.com/event/pacific-northwest-outrigger-challenge/
LOCATION:Magnuson Park\, 7861 62nd Ave NE\, Seattle\, WA\, 98115
CATEGORIES:Changeout,Distance Race
GEO:47.6887205;-122.2648946
X-APPLE-STRUCTURED-LOCATION;VALUE=URI;X-ADDRESS=Magnuson Park 7861 62nd Ave NE Seattle WA 98115;X-APPLE-RADIUS=500;X-TITLE=7861 62nd Ave NE:geo:-122.2648946,47.6887205
END:VEVENT
BEGIN:VEVENT
DTSTART;TZID=America/Los_Angeles:20230830T120000
DTEND;TZID=America/Los_Angeles:20230830T200000
DTSTAMP:20260423T125456
CREATED:20230818T002756Z
LAST-MODIFIED:20230818T002756Z
UID:10000024-1693396800-1693425600@kikaha.com
SUMMARY:Hokulea arrives in Tacoma!
DESCRIPTION:  \n48 paddlers are encourage to join us and meet Hokule’a with using or club OC6s\, OC1s and Lon’s OC3 Little Brother. We can also rig up our OC3 Zippy. \nIf we can’t fill all of our canoes\, we have asked other clubs to send their members here to fill in. Again if we fill up all of our canoes\, small OC canoe owners are encourage to bring their OCs. All members are encourage to meet our Hokule’a including our Keiki/Juniors \nAlso Aunty Myrna will need help at the Foss Waterway Seaport Museum with the Potluck serving area. Please sign up with the coaches. \n****Please ask your boss for a day off to really enjoy this historical event that only comes around every 25 years!
URL:https://kikaha.com/event/hokulea-arrives-in-tacoma/
LOCATION:Thea Foss Park\, 405 Dock St\, Tacoma\, WA\, 98402
GEO:47.2598513;-122.4383662
X-APPLE-STRUCTURED-LOCATION;VALUE=URI;X-ADDRESS=Thea Foss Park 405 Dock St Tacoma WA 98402;X-APPLE-RADIUS=500;X-TITLE=405 Dock St:geo:-122.4383662,47.2598513
END:VEVENT
END:VCALENDAR