BEGIN:VCALENDAR
VERSION:2.0
PRODID:-//Kikaha O Ke Kai - ECPv6.15.20//NONSGML v1.0//EN
CALSCALE:GREGORIAN
METHOD:PUBLISH
X-WR-CALNAME:Kikaha O Ke Kai
X-ORIGINAL-URL:https://kikaha.com
X-WR-CALDESC:Events for Kikaha O Ke Kai
REFRESH-INTERVAL;VALUE=DURATION:PT1H
X-Robots-Tag:noindex
X-PUBLISHED-TTL:PT1H
BEGIN:VTIMEZONE
TZID:America/Los_Angeles
BEGIN:DAYLIGHT
TZOFFSETFROM:-0800
TZOFFSETTO:-0700
TZNAME:PDT
DTSTART:20230312T100000
END:DAYLIGHT
BEGIN:STANDARD
TZOFFSETFROM:-0700
TZOFFSETTO:-0800
TZNAME:PST
DTSTART:20231105T090000
END:STANDARD
BEGIN:DAYLIGHT
TZOFFSETFROM:-0800
TZOFFSETTO:-0700
TZNAME:PDT
DTSTART:20240310T100000
END:DAYLIGHT
BEGIN:STANDARD
TZOFFSETFROM:-0700
TZOFFSETTO:-0800
TZNAME:PST
DTSTART:20241103T090000
END:STANDARD
BEGIN:DAYLIGHT
TZOFFSETFROM:-0800
TZOFFSETTO:-0700
TZNAME:PDT
DTSTART:20250309T100000
END:DAYLIGHT
BEGIN:STANDARD
TZOFFSETFROM:-0700
TZOFFSETTO:-0800
TZNAME:PST
DTSTART:20251102T090000
END:STANDARD
END:VTIMEZONE
BEGIN:VEVENT
DTSTART;TZID=America/Los_Angeles:20240309T080000
DTEND;TZID=America/Los_Angeles:20240309T110000
DTSTAMP:20260423T020441
CREATED:20240228T051055Z
LAST-MODIFIED:20240228T051112Z
UID:10000040-1709971200-1709982000@kikaha.com
SUMMARY:2024 General Membership Meeting
DESCRIPTION:Join us as we elect new Board Officers and Directors to guide the club into 2024 and beyond! We will be holding the meeting at the Teamsters 313 Union Hall at 9am. Watch your email for more information as the date approaches.
URL:https://kikaha.com/event/2024-general-membership-meeting/
LOCATION:Teamsters Hall\, 220 S 27th Street\, Tacoma\, WA\, 98402\, United States
END:VEVENT
BEGIN:VEVENT
DTSTART;TZID=America/Los_Angeles:20240310T080000
DTEND;TZID=America/Los_Angeles:20240310T120000
DTSTAMP:20260423T020441
CREATED:20240209T012055Z
LAST-MODIFIED:20240228T050812Z
UID:10000039-1710057600-1710072000@kikaha.com
SUMMARY:Site Cleanup and Season Kickoff
DESCRIPTION:Bring gloves and work clothes to help us get the practice site cleaned and ready for our 2024 season!
URL:https://kikaha.com/event/site-cleanup-and-season-kickoff/
LOCATION:Foss Practice Site\, 1930 E D Street\, Tacoma\, WA\, 98421\, United States
GEO:47.2435744;-122.4310179
X-APPLE-STRUCTURED-LOCATION;VALUE=URI;X-ADDRESS=Foss Practice Site 1930 E D Street Tacoma WA 98421 United States;X-APPLE-RADIUS=500;X-TITLE=1930 E D Street:geo:-122.4310179,47.2435744
END:VEVENT
END:VCALENDAR