BEGIN:VCALENDAR
VERSION:2.0
PRODID:-//Kikaha O Ke Kai - ECPv6.15.20//NONSGML v1.0//EN
CALSCALE:GREGORIAN
METHOD:PUBLISH
X-ORIGINAL-URL:https://kikaha.com
X-WR-CALDESC:Events for Kikaha O Ke Kai
REFRESH-INTERVAL;VALUE=DURATION:PT1H
X-Robots-Tag:noindex
X-PUBLISHED-TTL:PT1H
BEGIN:VTIMEZONE
TZID:America/Los_Angeles
BEGIN:DAYLIGHT
TZOFFSETFROM:-0800
TZOFFSETTO:-0700
TZNAME:PDT
DTSTART:20240310T100000
END:DAYLIGHT
BEGIN:STANDARD
TZOFFSETFROM:-0700
TZOFFSETTO:-0800
TZNAME:PST
DTSTART:20241103T090000
END:STANDARD
BEGIN:DAYLIGHT
TZOFFSETFROM:-0800
TZOFFSETTO:-0700
TZNAME:PDT
DTSTART:20250309T100000
END:DAYLIGHT
BEGIN:STANDARD
TZOFFSETFROM:-0700
TZOFFSETTO:-0800
TZNAME:PST
DTSTART:20251102T090000
END:STANDARD
BEGIN:DAYLIGHT
TZOFFSETFROM:-0800
TZOFFSETTO:-0700
TZNAME:PDT
DTSTART:20260308T100000
END:DAYLIGHT
BEGIN:STANDARD
TZOFFSETFROM:-0700
TZOFFSETTO:-0800
TZNAME:PST
DTSTART:20261101T090000
END:STANDARD
END:VTIMEZONE
BEGIN:VEVENT
DTSTART;TZID=America/Los_Angeles:20250405T090000
DTEND;TZID=America/Los_Angeles:20250405T123000
DTSTAMP:20260422T051629
CREATED:20250203T183002Z
LAST-MODIFIED:20250401T044536Z
UID:10000068-1743843600-1743856200@kikaha.com
SUMMARY:Huli Drill
DESCRIPTION:Our Huli Drill is scheduled for Saturday\, April 5\, at the Mt. Tahoma High School pool. This is a mandatory safety training\, and all active members are expected to attend. \nMore details will be shared as we get closer\, but please mark your calendars and plan accordingly. This is an essential part of our safety preparedness\, so let’s make sure we’re all ready.
URL:https://kikaha.com/event/2025-huli-drill/
LOCATION:Mount Tahoma High School Pool\, 4634 S 74th Street\, Tacoma\, WA\, 98404\, United States
CATEGORIES:Huli Drill,Other (Non-racing)
END:VEVENT
BEGIN:VEVENT
DTSTART;TZID=America/Los_Angeles:20250408T040000
DTEND;TZID=America/Los_Angeles:20250408T170000
DTSTAMP:20260422T051629
CREATED:20250203T183432Z
LAST-MODIFIED:20250203T183448Z
UID:10000069-1744084800-1744131600@kikaha.com
SUMMARY:Keiki Practice Starts!
DESCRIPTION:Aloha ʻOhana\, \nKeiki practice is kicking off on Tuesday\, April 8! Practices will be held every Tuesday and Thursday at 4 PM. \nWe’re excited to get back on the water and look forward to seeing all our keiki paddlers ready to go. Please arrive on time and prepared for practice. \nLet’s have a great season! \nImua!
URL:https://kikaha.com/event/2025-keiki-practice-starts/
LOCATION:Foss Practice Site\, 1930 E D Street\, Tacoma\, WA\, 98421\, United States
CATEGORIES:Practice
GEO:47.2435744;-122.4310179
X-APPLE-STRUCTURED-LOCATION;VALUE=URI;X-ADDRESS=Foss Practice Site 1930 E D Street Tacoma WA 98421 United States;X-APPLE-RADIUS=500;X-TITLE=1930 E D Street:geo:-122.4310179,47.2435744
END:VEVENT
END:VCALENDAR