BEGIN:VCALENDAR
VERSION:2.0
PRODID:-//Kikaha O Ke Kai - ECPv6.15.20//NONSGML v1.0//EN
CALSCALE:GREGORIAN
METHOD:PUBLISH
X-ORIGINAL-URL:https://kikaha.com
X-WR-CALDESC:Events for Kikaha O Ke Kai
REFRESH-INTERVAL;VALUE=DURATION:PT1H
X-Robots-Tag:noindex
X-PUBLISHED-TTL:PT1H
BEGIN:VTIMEZONE
TZID:America/Los_Angeles
BEGIN:DAYLIGHT
TZOFFSETFROM:-0800
TZOFFSETTO:-0700
TZNAME:PDT
DTSTART:20250309T100000
END:DAYLIGHT
BEGIN:STANDARD
TZOFFSETFROM:-0700
TZOFFSETTO:-0800
TZNAME:PST
DTSTART:20251102T090000
END:STANDARD
BEGIN:DAYLIGHT
TZOFFSETFROM:-0800
TZOFFSETTO:-0700
TZNAME:PDT
DTSTART:20260308T100000
END:DAYLIGHT
BEGIN:STANDARD
TZOFFSETFROM:-0700
TZOFFSETTO:-0800
TZNAME:PST
DTSTART:20261101T090000
END:STANDARD
BEGIN:DAYLIGHT
TZOFFSETFROM:-0800
TZOFFSETTO:-0700
TZNAME:PDT
DTSTART:20270314T100000
END:DAYLIGHT
BEGIN:STANDARD
TZOFFSETFROM:-0700
TZOFFSETTO:-0800
TZNAME:PST
DTSTART:20271107T090000
END:STANDARD
END:VTIMEZONE
BEGIN:VEVENT
DTSTART;TZID=America/Los_Angeles:20260711T080000
DTEND;TZID=America/Los_Angeles:20260711T170000
DTSTAMP:20260419T152016
CREATED:20260413T193118Z
LAST-MODIFIED:20260415T004203Z
UID:10000058-1783756800-1783789200@kikaha.com
SUMMARY:Gorge Race – Hosted by Waterwalker
DESCRIPTION:
URL:https://kikaha.com/event/gorge-race-hosted-by-waterwalker/
LOCATION:Skamania County Fairgrounds\, 710 SW Rock Creek Dr\, Stevenson\, WA\, 98648
CATEGORIES:Distance Race,Iron,OC6
GEO:45.6923108;-121.8940865
X-APPLE-STRUCTURED-LOCATION;VALUE=URI;X-ADDRESS=Skamania County Fairgrounds 710 SW Rock Creek Dr Stevenson WA 98648;X-APPLE-RADIUS=500;X-TITLE=710 SW Rock Creek Dr:geo:-121.8940865,45.6923108
END:VEVENT
END:VCALENDAR